BEGIN:VCALENDAR
VERSION:2.0
PRODID:-//ITMA: IT Management Association - ECPv6.1.2.2//NONSGML v1.0//EN
CALSCALE:GREGORIAN
METHOD:PUBLISH
X-WR-CALNAME:ITMA: IT Management Association
X-ORIGINAL-URL:https://itma.org.sg
X-WR-CALDESC:Events for ITMA: IT Management Association
REFRESH-INTERVAL;VALUE=DURATION:PT1H
X-Robots-Tag:noindex
X-PUBLISHED-TTL:PT1H
BEGIN:VTIMEZONE
TZID:Asia/Shanghai
BEGIN:STANDARD
TZOFFSETFROM:+0800
TZOFFSETTO:+0800
TZNAME:CST
DTSTART:20220101T000000
END:STANDARD
END:VTIMEZONE
BEGIN:VEVENT
DTSTART;TZID=Asia/Shanghai:20221118T053000
DTEND;TZID=Asia/Shanghai:20221118T200000
DTSTAMP:20260421T151842
CREATED:20230608T141542Z
LAST-MODIFIED:20230720T065044Z
UID:554-1668749400-1668801600@itma.org.sg
SUMMARY:Fireside Chat with Senior Minister of State
DESCRIPTION:Join us for an exclusive ITMA Networking Dinner where you have a chance to get close up to chat with Senior Minister of State\, Ministry of Communications and Information & Ministry of National Development\, Tan Kiat How. \n  \n\n\n\nLimited seats are available. You will receive an email to confirm on your seat after registering your interest. Below is the agenda \n5.30pm: Registration\n6.00pm: Arrival of Senior Minister of State\n6.05pm: Drinks and Dinner\n6.30pm: Fireside chat with Senior Minister of State\n7.30pm: Networking Session\n8.00pm: End of Programme
URL:https://itma.org.sg/event/fireside-chat-with-senior-minister-of-state/
LOCATION:250 North Bridge Road\, #33-00\, Raffles City Tower\, Singapore
ATTACH;FMTTYPE=image/png:https://itma.org.sg/itma/assets/2023/06/Artboard-70-copy@2x-1.png
END:VEVENT
END:VCALENDAR