BEGIN:VCALENDAR
VERSION:2.0
PRODID:-//ITMA: IT Management Association - ECPv6.1.2.2//NONSGML v1.0//EN
CALSCALE:GREGORIAN
METHOD:PUBLISH
X-WR-CALNAME:ITMA: IT Management Association
X-ORIGINAL-URL:https://itma.org.sg
X-WR-CALDESC:Events for ITMA: IT Management Association
REFRESH-INTERVAL;VALUE=DURATION:PT1H
X-Robots-Tag:noindex
X-PUBLISHED-TTL:PT1H
BEGIN:VTIMEZONE
TZID:Asia/Shanghai
BEGIN:STANDARD
TZOFFSETFROM:+0800
TZOFFSETTO:+0800
TZNAME:CST
DTSTART:20250101T000000
END:STANDARD
END:VTIMEZONE
BEGIN:VEVENT
DTSTART;TZID=Asia/Shanghai:20250417T143000
DTEND;TZID=Asia/Shanghai:20250417T180000
DTSTAMP:20260421T020330
CREATED:20250319T102051Z
LAST-MODIFIED:20250319T102051Z
UID:2586-1744900200-1744912800@itma.org.sg
SUMMARY:Exclusive ITMA Visit to Woodlands Health Campus!
DESCRIPTION:Woodlands Health (WH) cordially invites you to an exclusive visit to Woodlands Health Campus (WHC)\, Singapore’s newest public healthcare campus. \nSpanning 7.66 hectares\, WHC is a state-of-the-art healthcare hub integrating acute and community hospitals\, specialist outpatient clinics\, an intermediary and long-term care facility\, and even a public park. The WH team will share insights into WHC’s development journey—which overlapped with the COVID-19 pandemic—and how its design addresses both current and future healthcare technology opportunities. \nFollowing the presentations\, ITMA members will embark on a guided walkthrough\, narrated through a simulated patient journey. This experience will showcase how digital and technological advancements are enhancing clinical care and operational efficiency. Key areas of access include:\n•    Emergency Department\n•    Radiology & Laboratory\n•    Inpatient Wards\n•    Pharmacy\n•    Onsite Data Center \nThe visit will conclude with light refreshments prepared by WH’s on-campus kitchen\, providing an opportunity to network with fellow ITMA members\, WH leadership\, and Synapxe staff.
URL:https://itma.org.sg/event/exclusive-itma-visit-to-woodlands-health-campus/
LOCATION:Woodlands Health Campus\, 17 Woodlands Dr 17\, 737628
ATTACH;FMTTYPE=image/png:https://itma.org.sg/itma/assets/2025/03/WH-Social.png
END:VEVENT
END:VCALENDAR