BEGIN:VCALENDAR
VERSION:2.0
PRODID:-//ITMA: IT Management Association - ECPv6.1.2.2//NONSGML v1.0//EN
CALSCALE:GREGORIAN
METHOD:PUBLISH
X-WR-CALNAME:ITMA: IT Management Association
X-ORIGINAL-URL:https://itma.org.sg
X-WR-CALDESC:Events for ITMA: IT Management Association
REFRESH-INTERVAL;VALUE=DURATION:PT1H
X-Robots-Tag:noindex
X-PUBLISHED-TTL:PT1H
BEGIN:VTIMEZONE
TZID:Asia/Shanghai
BEGIN:STANDARD
TZOFFSETFROM:+0800
TZOFFSETTO:+0800
TZNAME:CST
DTSTART:20200101T000000
END:STANDARD
END:VTIMEZONE
BEGIN:VEVENT
DTSTART;TZID=Asia/Shanghai:20200114T180000
DTEND;TZID=Asia/Shanghai:20200114T200000
DTSTAMP:20260421T232429
CREATED:20230609T034518Z
LAST-MODIFIED:20230721T035048Z
UID:735-1579024800-1579032000@itma.org.sg
SUMMARY:Exclusive Industry Briefing and CNY Prosperity Dinner
DESCRIPTION:Dear ITMA Members \nAs a technology leader within your organization how can you help your organization gain value from its growing data? What makes a future-proof yet pragmatic approach to adapt to the evolving changes? \n\n\n\nDigital transformation (DX) is at the top of the strategic objectives list for most organizations. However\, one key aspect of DX that is often overlooked and causes problems if not adequately prepared for\, is the issue of data management. Before you can reap the benefits of your data – which is the core of DX – you need to have control over it first. \nMost enterprise data is scattered across multiple locations on-premise and in various clouds (public\, private\, hybrid). It is trapped in infrastructure silos or buried in long-forgotten storage systems\, or back-up devices. This fragmentation of data makes it difficult and time-consuming for IT to control or access\, and hinders data exploitation for the business\, let alone support new workloads and functionalities. \nGiven such fast evolving demands\, technologies that were deployed to drive efficiencies and automations often become obsolete and result in the need for new tools and systems to satisfy new requirements to support DX. \nAs a thought leader in our Industry\, we invite you to a discussion on the challenges of Mass Data Fragmentation and how to future proof and radically redefine Data Management \nEvent Details \n6.00 PM – 6.30 PM\nRegistration and Networking \n6:30 PM – 6:40 PM\nWelcome from ITMA and Cohesity \n6:40 PM – 7:00 PM\nSolving Mass Data Fragmentation To Enable Digital Transformation\nMarcus Low\, CTO Asia Pacific & Japan\, Cohesity \n7:00 PM – 7:30 PM\nLohei and Dinner Commence \n7:30 PM – 8:00 PM\nRedefining Data Management – An End User Conversation\nSathish Murthy\, Director Technology Services Cohesity with Richard Lee\, Director IT Infrastructure & Services\, SISTIC \n8.00 PM Onwards\nCocktails and Networking
URL:https://itma.org.sg/event/exclusive-industry-briefing-and-cny-prosperity-dinner/
LOCATION:Xi Yan Maxwell\, 28 Maxwell Road Singapore 069120\, Singapore
ATTACH;FMTTYPE=image/png:https://itma.org.sg/itma/assets/2023/05/Artboard-71@2x.png
END:VEVENT
END:VCALENDAR