BEGIN:VCALENDAR
VERSION:2.0
PRODID:-//ITMA: IT Management Association - ECPv6.1.2.2//NONSGML v1.0//EN
CALSCALE:GREGORIAN
METHOD:PUBLISH
X-WR-CALNAME:ITMA: IT Management Association
X-ORIGINAL-URL:https://itma.org.sg
X-WR-CALDESC:Events for ITMA: IT Management Association
REFRESH-INTERVAL;VALUE=DURATION:PT1H
X-Robots-Tag:noindex
X-PUBLISHED-TTL:PT1H
BEGIN:VTIMEZONE
TZID:Asia/Shanghai
BEGIN:STANDARD
TZOFFSETFROM:+0800
TZOFFSETTO:+0800
TZNAME:CST
DTSTART:20210101T000000
END:STANDARD
END:VTIMEZONE
BEGIN:VEVENT
DTSTART;TZID=Asia/Shanghai:20211102T180000
DTEND;TZID=Asia/Shanghai:20211102T180000
DTSTAMP:20260421T165003
CREATED:20230609T023256Z
LAST-MODIFIED:20230721T041016Z
UID:658-1635876000-1635876000@itma.org.sg
SUMMARY:Digitalising For Growth with Singapore Pools & KTPH
DESCRIPTION:Join SPTel and ITMA in this exclusive business leaders sharing session where we sit down for an intimate chat with Yeo Teck Guan\, Chief Business Transformation Officer of Singapore Pools as well as a member of Khoo Teck Puat Hospital’s (KTPH) management team. \n\n\n\nIn this session\, they will share on how they are automating business operations and enhancing customer experiences while improving total cost of ownership by driving innovation with the use of technology. \nUnwind for the evening as we bring you a specially curated Sake and Chocolate pairing session led by award winning sommelier\, Adrian Goh. Starting his Sake journey in 2013\, he has been a Sake Judge for IWC Sake (the largest sake competition in the world) for the past 3 years. \nSake pairing packs consisting of 5 tasting bottles as well as pairing bon bons will be delivered to each participant ahead of the event. Do turn on your camera during the tasting and do a virtual “kampai” with us!
URL:https://itma.org.sg/event/digitalising-for-growth-with-singapore-pools-ktph/
LOCATION:Online\, Singapore
ATTACH;FMTTYPE=image/png:https://itma.org.sg/itma/assets/2023/06/Artboard-71-copy@2x.png
END:VEVENT
END:VCALENDAR