BEGIN:VCALENDAR
VERSION:2.0
PRODID:-//ITMA: IT Management Association - ECPv6.1.2.2//NONSGML v1.0//EN
CALSCALE:GREGORIAN
METHOD:PUBLISH
X-WR-CALNAME:ITMA: IT Management Association
X-ORIGINAL-URL:https://itma.org.sg
X-WR-CALDESC:Events for ITMA: IT Management Association
REFRESH-INTERVAL;VALUE=DURATION:PT1H
X-Robots-Tag:noindex
X-PUBLISHED-TTL:PT1H
BEGIN:VTIMEZONE
TZID:Asia/Shanghai
BEGIN:STANDARD
TZOFFSETFROM:+0800
TZOFFSETTO:+0800
TZNAME:CST
DTSTART:20220101T000000
END:STANDARD
END:VTIMEZONE
BEGIN:VEVENT
DTSTART;TZID=Asia/Shanghai:20220308T183000
DTEND;TZID=Asia/Shanghai:20220308T210000
DTSTAMP:20260421T200416
CREATED:20230609T015451Z
LAST-MODIFIED:20230720T061628Z
UID:628-1646764200-1646773200@itma.org.sg
SUMMARY:Cloud & Data Governance: Towards Building a Resilient & Agile Public Enterprise
DESCRIPTION:Dear ITMA Members\, \nAs discussions surrounding business resilience hits a crescendo amongst Southeast Asian organizations\, data has been the underpinning driver in ensuring continuity across all business functions\, customer interactions and operational processes. \n  \n\n\n\nPredictions suggest that a mandate for uncompromising data integrity\, security\, governance and trust will lead 80% of enterprises to create a single\, company-wide data management strategy to break down all data silos in the next 2 years. \nIn the Age of Insight\, next gen data management and protection strategies are rapidly evolving in response to high volumes of data being created in the core\, cloud and edge. \nJoin us in this interactive event\, you will learn how Cohesity and HPE can help you unify\, modernize\, analyze and protect all of your data\, from edge-to-cloud\, delivered as-a-service with unmatched agility and financial flexibility. We will deep dive into \nBeyond Zero Trust Security – Combating the Threat of Ransomware with Security Threat Defense and DataGovern\nSimplicity at Scale – Manage everything in a single pane of glass\, solve the most pressing data management challenges and embrace defence-in-depth data resiliency\nPowered by AI – Improve decisions and act faster with built-in smart capabilities\nIT Consumption Experience – Offers self-service flexibility\, manageability\, agility and complete data security \nITMA is collaborating with Cohesity & HPE to invite you to an exclusive closed door session on 8 Mar\, Tuesday at COMO Dempsey.
URL:https://itma.org.sg/event/cloud-data-governance-towards-building-a-resilient-agile-public-enterprise/
LOCATION:Block 18A Dempsey Road\,\, Singapore 249677\, Singapore
ATTACH;FMTTYPE=image/png:https://itma.org.sg/itma/assets/2023/06/Artboard-71-copy-2@2x.png
END:VEVENT
END:VCALENDAR