BEGIN:VCALENDAR
VERSION:2.0
PRODID:-//ITMA: IT Management Association - ECPv6.1.2.2//NONSGML v1.0//EN
CALSCALE:GREGORIAN
METHOD:PUBLISH
X-WR-CALNAME:ITMA: IT Management Association
X-ORIGINAL-URL:https://itma.org.sg
X-WR-CALDESC:Events for ITMA: IT Management Association
REFRESH-INTERVAL;VALUE=DURATION:PT1H
X-Robots-Tag:noindex
X-PUBLISHED-TTL:PT1H
BEGIN:VTIMEZONE
TZID:Asia/Shanghai
BEGIN:STANDARD
TZOFFSETFROM:+0800
TZOFFSETTO:+0800
TZNAME:CST
DTSTART:20180101T000000
END:STANDARD
END:VTIMEZONE
BEGIN:VEVENT
DTSTART;TZID=Asia/Shanghai:20180716T083000
DTEND;TZID=Asia/Shanghai:20180716T103000
DTSTAMP:20260422T093459
CREATED:20230610T000413Z
LAST-MODIFIED:20230614T015712Z
UID:877-1531729800-1531737000@itma.org.sg
SUMMARY:Big Companies Can Innovate
DESCRIPTION:Big companies have the money and resources\, so why is it so hard for them to excel in groundbreaking disruptive innovation? \n\n\n\nThe innovator’s dilemma arises when companies are dominant and have a need to protect their market resulting in the shift from disruptive innovation to sustaining innovation. \nIn many instances\, big companies simply add technologies haphazardly to their existing business model when true innovation is to reconstruct business model with technology\, capitalizing on new and emerging opportunities and morphing business models with the help of technology to achieve a more sustainable competitive advantage. \nHow do we view innovation? Do we simply adopt any new technologies that come along? How do we as IT leaders weed out the hype and focus on the value-add technological capabilities? \nAt this Good Morning CIO Breakfast Roundtable\, let’s have an open dialogue with Kin Wei as he shares with us some of the use cases and proof of concept projects such as Blockchain and Artificial Intelligence to value-add in business.
URL:https://itma.org.sg/event/big-companies-can-innovate/
LOCATION:NUSS Guild House\, 3 Temasek Boulevard (Tower 5) #02- 401/402 Suntec City Mall\, 038983\, Singapore
ATTACH;FMTTYPE=image/png:https://itma.org.sg/itma/assets/2023/06/e19.png
END:VEVENT
END:VCALENDAR