BEGIN:VCALENDAR
VERSION:2.0
PRODID:-//ITMA: IT Management Association - ECPv6.1.2.2//NONSGML v1.0//EN
CALSCALE:GREGORIAN
METHOD:PUBLISH
X-WR-CALNAME:ITMA: IT Management Association
X-ORIGINAL-URL:https://itma.org.sg
X-WR-CALDESC:Events for ITMA: IT Management Association
REFRESH-INTERVAL;VALUE=DURATION:PT1H
X-Robots-Tag:noindex
X-PUBLISHED-TTL:PT1H
BEGIN:VTIMEZONE
TZID:Asia/Shanghai
BEGIN:STANDARD
TZOFFSETFROM:+0800
TZOFFSETTO:+0800
TZNAME:CST
DTSTART:20210101T000000
END:STANDARD
END:VTIMEZONE
BEGIN:VEVENT
DTSTART;TZID=Asia/Shanghai:20210420T170000
DTEND;TZID=Asia/Shanghai:20210420T180000
DTSTAMP:20260421T180609
CREATED:20230609T024916Z
LAST-MODIFIED:20230721T040847Z
UID:680-1618938000-1618941600@itma.org.sg
SUMMARY:AI Ethics & Governance BoK
DESCRIPTION:Dear ITMA Members\, \nThe AI momentum is growing rapidly\, with more platforms\, tools and apps incorporating AI\, that are deployed across all sectors such as healthcare\, legal\, manufacturing\, logistics\, retail\, transport\, automobile\, and many more. \n\n\n\nIn order to build a safe and secure augmented AI world\, it is crucial that organisations are guided with defined Code of AI ethics and practices. Given this intent and supported by IMDA\, SCS developed the AI Ethics & Governance BoK which is based on the IMDA’s Model AI Governance Framework. Probably\, one of the first in the world\, the BoK will serve as an important resource aimed at educating and guiding businesses and professionals on the ethical aspects related to the development and deployment of AI technologies. \n\nCome join us for an online session with Dr Kwong Yuk Wah\, Vice President\, Singapore Computer Society\, who is also the Chairperson of the SCS AI Ethics BoK and Certification Committee\, together with Mr Raju Chellam\, Chief Editor of the BoK where they will share the following:\nBenefits of understanding AI Ethics and Governance\nOverview of the AI Ethics & Governance Body of Knowledge\nCertificate in AI Ethics and Governance which equips you with the AI Ethics & Governance related skillsets and frameworks to deploy AI in a responsible manner
URL:https://itma.org.sg/event/ai-ethics-governance-bok/
LOCATION:Online\, Singapore
ATTACH;FMTTYPE=image/png:https://itma.org.sg/itma/assets/2023/06/Artboard-70@2x.png
END:VEVENT
END:VCALENDAR