BEGIN:VCALENDAR
VERSION:2.0
PRODID:-//ITMA: IT Management Association - ECPv6.1.2.2//NONSGML v1.0//EN
CALSCALE:GREGORIAN
METHOD:PUBLISH
X-WR-CALNAME:ITMA: IT Management Association
X-ORIGINAL-URL:https://itma.org.sg
X-WR-CALDESC:Events for ITMA: IT Management Association
REFRESH-INTERVAL;VALUE=DURATION:PT1H
X-Robots-Tag:noindex
X-PUBLISHED-TTL:PT1H
BEGIN:VTIMEZONE
TZID:Asia/Shanghai
BEGIN:STANDARD
TZOFFSETFROM:+0800
TZOFFSETTO:+0800
TZNAME:CST
DTSTART:20140101T000000
END:STANDARD
END:VTIMEZONE
BEGIN:VEVENT
DTSTART;TZID=Asia/Shanghai:20140908T080000
DTEND;TZID=Asia/Shanghai:20140908T170000
DTSTAMP:20260422T131656
CREATED:20230610T114819Z
LAST-MODIFIED:20230614T015543Z
UID:1210-1410163200-1410195600@itma.org.sg
SUMMARY:8th ITMA CIO Study Trip\, Sparking Innovation
DESCRIPTION:ITMA is organizing its 8th CIO Study Trip themed “Sparking Innovation”\, which will be in Switzerland and Liechtenstein between 8th and 12th of September. \n\n\n\n\n\n\n\n\n\n\n\n\n\n\n\nThe Chief Information Officer (CIO) Study trip is organized by the Singapore IT Management Association (ITMA). This is an exclusive event for CIOs/IT Heads\, and has been well regarded as a great opportunity to learn\, network\, and share with industry peers from different industries and geographies. \nFor this 8th annual study trip\, a group of 30 CIOs and IT heads will have the chance to explore and discuss the innovative ways in which well-established European organizations use technologies. We will meet with CIOs and other business leaders in these organizations: \n \n\nABB – A Fortune 250 company headquartered in Zurich with 150\,000 employees. ABB invests heavily in technology\, devoting over $1 billion to various research and development activities.\nAudemars Piguet – A renowned luxury watch maker\, who over the last century has achieved many firsts in precision watch making\, and improved upon watch-making practices.\nAXA Tech – Provides cutting edge technology solutions for the AXA Group\, a global financial conglomerate with more than $1T in assets under management.\nCERN – The European Council for Nuclear Research and the world’s largest particle collider. The world wide web was also founded in CERN in 1989 by Tim Bernes-Lee.\nDSM – A Euro 10 Billion company that is active in the health\, nutrition and materials sector.\nHSBC Private Bank – Learn how HSBC implemented their Digital Strategy from their Private Banking Managing Director.\nIMD – One of the world’s premier and top ranking business and management institution\, IMD is ranked 1st in executive education worldwide by the Financial Times 2008-2014.\nMindMaze – Meet up with the CEO and founder of this highly innovative company that combines immersive virtual reality\, brain imaging and robotics.\nUBS – The de facto Swiss bank\, with 62\,000 employees in 50 countries\, an annual revenue of CHF 70B CHF. Technology is fundamental to UBS\, innovation in technology has allowed UBS to remain a key player in the global financial system.\n\nFor further enquiries and registration\, please email Nancy Lee at secretariat@itma.org.sg. \nSponsors\n\nDisclaimer statement: ITMA reserves the rights to change the itinerary/program without notice.
URL:https://itma.org.sg/event/8th-itma-cio-study-trip-sparking-innovation/
LOCATION:Switzerland &\, Liechtenstein\, Singapore
ATTACH;FMTTYPE=image/png:https://itma.org.sg/itma/assets/2023/06/e70.png
END:VEVENT
END:VCALENDAR