BEGIN:VCALENDAR
VERSION:2.0
PRODID:-//ITMA: IT Management Association - ECPv6.1.2.2//NONSGML v1.0//EN
CALSCALE:GREGORIAN
METHOD:PUBLISH
X-WR-CALNAME:ITMA: IT Management Association
X-ORIGINAL-URL:https://itma.org.sg
X-WR-CALDESC:Events for ITMA: IT Management Association
REFRESH-INTERVAL;VALUE=DURATION:PT1H
X-Robots-Tag:noindex
X-PUBLISHED-TTL:PT1H
BEGIN:VTIMEZONE
TZID:Asia/Shanghai
BEGIN:STANDARD
TZOFFSETFROM:+0800
TZOFFSETTO:+0800
TZNAME:CST
DTSTART:20250101T000000
END:STANDARD
END:VTIMEZONE
BEGIN:VEVENT
DTSTART;TZID=Asia/Shanghai:20250519T140000
DTEND;TZID=Asia/Shanghai:20250519T200000
DTSTAMP:20260422T092146
CREATED:20250218T062222Z
LAST-MODIFIED:20250218T062222Z
UID:2511-1747663200-1747684800@itma.org.sg
SUMMARY:38th CIO Workshop (Singapore)
DESCRIPTION:In an era of rapid change\, the ability to innovate with agility is not just a competitive advantage—it’s a necessity. As a visionary leader\, you understand the importance of staying ahead of the curve and driving transformative change within your organisation. \nExplore how you can navigate this dynamic landscape by joining us at the 38th CIO Workshop. This year we’ll delve into the theme “Agility in Innovation”\, which examines how forward-thinking leaders are building cultures that embrace change\, encourage experimentation\, and inspire teams to think differently. Together\, we’ll explore how to enable organisations to adapt quickly\, pivot effectively\, and leverage emerging technologies to stay ahead in a rapidly evolving landscape. \nOur workshop kicks off with an interactive session in Singapore on 19 May 2025 and continues in Osaka and Kyoto in Japan from 20 to 24 May 2025.
URL:https://itma.org.sg/event/38th-cio-workshop-singapore/
LOCATION:Raffles City Convention Centre\, 80 Bras Basah Road\, Level 4\, Singapore 189560
ATTACH;FMTTYPE=image/png:https://itma.org.sg/itma/assets/2025/02/ITMA-Website-1200-x-1200px.png
END:VEVENT
END:VCALENDAR