BEGIN:VCALENDAR
VERSION:2.0
PRODID:-//ITMA: IT Management Association - ECPv6.1.2.2//NONSGML v1.0//EN
CALSCALE:GREGORIAN
METHOD:PUBLISH
X-WR-CALNAME:ITMA: IT Management Association
X-ORIGINAL-URL:https://itma.org.sg
X-WR-CALDESC:Events for ITMA: IT Management Association
REFRESH-INTERVAL;VALUE=DURATION:PT1H
X-Robots-Tag:noindex
X-PUBLISHED-TTL:PT1H
BEGIN:VTIMEZONE
TZID:Asia/Shanghai
BEGIN:STANDARD
TZOFFSETFROM:+0800
TZOFFSETTO:+0800
TZNAME:CST
DTSTART:20180101T000000
END:STANDARD
END:VTIMEZONE
BEGIN:VEVENT
DTSTART;TZID=Asia/Shanghai:20180328T190000
DTEND;TZID=Asia/Shanghai:20180328T190000
DTSTAMP:20260422T060621
CREATED:20230610T002332Z
LAST-MODIFIED:20230614T015657Z
UID:907-1522263600-1522263600@itma.org.sg
SUMMARY:2nd NOTICE OF 38th ANNUAL GENERAL MEETING 2018 cum Talk on Economic Outlook 2018 by Dr Tan Kee Wee
DESCRIPTION:2nd NOTICE OF 38th ANNUAL GENERAL MEETING 2018 cum Talk on Economic Outlook 2018 by Dr Tan Kee Wee \n\n\n\nITMA’s 38th Annual General Meeting will take place on \nWednesday\, 28th March 2018 at 7:00pm\, Ballroom III\,\nLevel 3\, Singapore Marriott Tang Plaza Hotel \nA sumptuous international buffet dinner awaits you!\nPlease click on the following to register for the Annual General Meeting. \nThose who have registered earlier for the 38th AGM do not have to register again.\nYour details have been pre-filled in your attendance form below for your convenience.\nPlease do not forward to others. \nI will be attending the Annual General Meeting \nAccess to Reports/MinutesAccess to Reports/Minutes \n(Think Green! Hardcopy of reports\, minutes etc will not be provided at the Annual General Meeting)\n* Please email to registration@itma.org.sg if you are having problems registering for AGM.
URL:https://itma.org.sg/event/2nd-notice-of-38th-annual-general-meeting-2018-cum-talk-on-economic-outlook-2018-by-dr-tan-kee-wee/
LOCATION:Singapore Marriott Tang Plaza Hotel\, Singapore
ATTACH;FMTTYPE=image/png:https://itma.org.sg/itma/assets/2023/06/e33.png
END:VEVENT
END:VCALENDAR