BEGIN:VCALENDAR
VERSION:2.0
PRODID:-//ITMA: IT Management Association - ECPv6.1.2.2//NONSGML v1.0//EN
CALSCALE:GREGORIAN
METHOD:PUBLISH
X-WR-CALNAME:ITMA: IT Management Association
X-ORIGINAL-URL:https://itma.org.sg
X-WR-CALDESC:Events for ITMA: IT Management Association
REFRESH-INTERVAL;VALUE=DURATION:PT1H
X-Robots-Tag:noindex
X-PUBLISHED-TTL:PT1H
BEGIN:VTIMEZONE
TZID:Asia/Shanghai
BEGIN:STANDARD
TZOFFSETFROM:+0800
TZOFFSETTO:+0800
TZNAME:CST
DTSTART:20130101T000000
END:STANDARD
END:VTIMEZONE
BEGIN:VEVENT
DTSTART;TZID=Asia/Shanghai:20130528T080000
DTEND;TZID=Asia/Shanghai:20130601T170000
DTSTAMP:20260423T222611
CREATED:20230610T133127Z
LAST-MODIFIED:20230614T015514Z
UID:1308-1369728000-1370106000@itma.org.sg
SUMMARY:26th Chief Information Officer Workshop
DESCRIPTION:26th Chief Information Officer Workshop \n\n\n\n\n\n\n\n\n\n\n\n\n\n\n\n\n\n\n\nThe Chief Information Officer (CIO) Workshop is an annual forum jointly organised by the Singapore IT Management Association (ITMA) and Accenture\, a global management consulting\, technology services and outsourcing company.\nThe CIO Workshop has long been regarded as the annual conference that brings together CIOs and top IT leaders from both the public and private sectors across the region to discuss the most pressing topics affecting business and technology today. \nThis event is highly anticipated by CIOs and senior IT management executives who return year after year to participate in content-rich sessions\, intimate discussions as well as listen to notable speakers and benefit from the valuable networking opportunities. \nOver the past 25 years\, the CIO Workshop has been a platform for many IT leaders to exchange their views and discuss the challenges facing the technology industry. \nThe theme for this year’s CIO Workshop is ‘CIO: Leading into the next frontier”. Speakers who are recognised experts in their industries will come together to share their experiences\, examine trends and present their vision of how IT will help shape the future of businesses. \nThe event kicks off with a half-day conference in Singapore. It then moves to Seoul\, for four days\, where CIOs from across Singapore and Seoul will share their experiences at the conference and through site visits\n\nFor workshop enquiries\, please contact: \nJoyce Ong\nTel +65 6410 6494 \nAdelyne Loke\nTel +65 6410 8324 \nAdeline Tan\nTel +65 6410 8216
URL:https://itma.org.sg/event/26th-chief-information-officer-workshop/
LOCATION:Singapore & ”\, Seoul\, Singapore
ATTACH;FMTTYPE=image/png:https://itma.org.sg/itma/assets/2023/06/e92.png
END:VEVENT
END:VCALENDAR