BEGIN:VCALENDAR
VERSION:2.0
PRODID:-//ITMA: IT Management Association - ECPv6.1.2.2//NONSGML v1.0//EN
CALSCALE:GREGORIAN
METHOD:PUBLISH
X-WR-CALNAME:ITMA: IT Management Association
X-ORIGINAL-URL:https://itma.org.sg
X-WR-CALDESC:Events for ITMA: IT Management Association
REFRESH-INTERVAL;VALUE=DURATION:PT1H
X-Robots-Tag:noindex
X-PUBLISHED-TTL:PT1H
BEGIN:VTIMEZONE
TZID:Asia/Shanghai
BEGIN:STANDARD
TZOFFSETFROM:+0800
TZOFFSETTO:+0800
TZNAME:CST
DTSTART:20080101T000000
END:STANDARD
END:VTIMEZONE
BEGIN:VEVENT
DTSTART;TZID=Asia/Shanghai:20081211T080000
DTEND;TZID=Asia/Shanghai:20081211T170000
DTSTAMP:20260426T090138
CREATED:20230611T043730Z
LAST-MODIFIED:20230614T015409Z
UID:1624-1228982400-1229014800@itma.org.sg
SUMMARY:14th ITBP Seminar 2008
DESCRIPTION:Dealing with uncertainty is a challenge for business and technology leaders alike. Companies in Asia today face a slowing global economy\, rising costs and the ongoing financial crisis. Creating an agile business and infrastructure is essential to maintaining growth and minimizing risk. \n\n\n\n \nDealing with uncertainty is a challenge for business and technology leaders alike. Companies in Asia today face a slowing global economy\, rising costs and the ongoing financial crisis. Creating an agile business and infrastructure is essential to maintaining growth and minimizing risk. \nCompanies need to constantly re-evaluate business models\, emerging opportunities\, sustainable technologies\, communications and collaboration methods\, and find ways to better retain and attract top talent. Companies that excel in these areas will be the leaders in their markets and companies that fail to prepare for these shifts will be left trailing in the wake of fast-moving competitors. \nThe 14th Annual IT Best Practices (ITBP) Seminar\, organized by the IT Management Association\, is a forum that brings together C-levels\, senior business and technology executives and leading IT practitioners from different business domains to share IT management best practices and leadership views. \nThe seminar will share some of the emerging trends\, best practices and success stories in managing agile businesses in uncertain times. Topics include: \n\nThe changing CIO role – business or technology leader?\nShifting focus from maintaining IT to being a change agent and building business value\nBalancing cost pressure\, the need to grow\, and coping with shifting risks and volatile business environments\nPrinciples for adaptive and dynamic IT within an agile business (SOA\, SaaS\, virtualization)\nGreen IT – how being green will provide long term cost savings and improved perception by customers\nThe evolution in work – the new age of collaboration
URL:https://itma.org.sg/event/14th-itbp-seminar-2008/
LOCATION:Grand Hyatt\, Singapore\, Singapore
END:VEVENT
END:VCALENDAR