BEGIN:VCALENDAR
VERSION:2.0
PRODID:-//ITMA: IT Management Association - ECPv6.1.2.2//NONSGML v1.0//EN
CALSCALE:GREGORIAN
METHOD:PUBLISH
X-ORIGINAL-URL:https://itma.org.sg
X-WR-CALDESC:Events for ITMA: IT Management Association
REFRESH-INTERVAL;VALUE=DURATION:PT1H
X-Robots-Tag:noindex
X-PUBLISHED-TTL:PT1H
BEGIN:VTIMEZONE
TZID:Asia/Shanghai
BEGIN:STANDARD
TZOFFSETFROM:+0800
TZOFFSETTO:+0800
TZNAME:CST
DTSTART:20260101T000000
END:STANDARD
END:VTIMEZONE
BEGIN:VEVENT
DTSTART;TZID=Asia/Shanghai:20260303T113000
DTEND;TZID=Asia/Shanghai:20260303T140000
DTSTAMP:20260422T104833
CREATED:20260130T094033Z
LAST-MODIFIED:20260130T094033Z
UID:10000381-1772537400-1772546400@itma.org.sg
SUMMARY:ITMA & BMC Chinese New Year Lo Hei Lunch
DESCRIPTION:Join ITMA and BMC for an exclusive Chinese New Year Lo Hei lunch as we welcome the Lunar New Year and usher in prosperity for the Year of the Horse. As modern businesses operate in increasingly complex hybrid environments—spanning legacy systems\, modern applications\, data pipelines\, and hybrid cloud infrastructures—operational complexity continues to rise. This challenge is further amplified as innovation and AI accelerate at an unprecedented pace. \nDiscover how BMC helps organisations use orchestration\, a core principle of DataOps\, to not only bring data projects into production faster\, but also run them at scale. Celebrate the festive season with us while gaining practical insights from BMC experts on: \n\n\nHarnessing the power of data to enable faster\, smarter business decisions \n\n\nOvercoming the challenges of operationalising data and moving projects into production \n\n\nScaling data initiatives through orchestration and DataOps to drive real business outcomes \n\n\nWe look forward to celebrating the Lunar New Year with you and sharing how smart automation can help you orchestrate extraordinary results.
URL:https://itma.org.sg/event/itma-bmc-chinese-new-year-lo-hei-lunch/
LOCATION:Mr. Bucket Chocolaterie\, Dempsey Factory 13 Dempsey Rd\, #01-03/04\, 249674
ATTACH;FMTTYPE=image/png:https://itma.org.sg/itma/assets/2026/01/BMC_CNY-Social-1.png
END:VEVENT
BEGIN:VEVENT
DTSTART;TZID=Asia/Shanghai:20260330T183000
DTEND;TZID=Asia/Shanghai:20260330T210000
DTSTAMP:20260422T104833
CREATED:20260130T100754Z
LAST-MODIFIED:20260130T100754Z
UID:10000382-1774895400-1774904400@itma.org.sg
SUMMARY:ITMA 46th Annual General Meeting
DESCRIPTION:
URL:https://itma.org.sg/event/itma-46th-annual-general-meeting/
LOCATION:Sentosa Development Corporation\, 39 Artillery Avenue\, Sentosa Singapore\, Singapore\, 099958\, Singapore
ATTACH;FMTTYPE=image/jpeg:https://itma.org.sg/itma/assets/2025/02/AGM-Copy.jpg
END:VEVENT
BEGIN:VEVENT
DTSTART;TZID=Asia/Shanghai:20260428T140000
DTEND;TZID=Asia/Shanghai:20260428T180000
DTSTAMP:20260422T104833
CREATED:20260418T080138Z
LAST-MODIFIED:20260418T080138Z
UID:10000387-1777384800-1777399200@itma.org.sg
SUMMARY:ITMA Study Visit to Sentosa Development Corporation
DESCRIPTION:
URL:https://itma.org.sg/event/sdc/
LOCATION:Sentosa Development Corporation\, 39 Artillery Avenue\, Sentosa Singapore\, Singapore\, 099958\, Singapore
ATTACH;FMTTYPE=image/png:https://itma.org.sg/itma/assets/2026/04/SDC_Social.png
END:VEVENT
BEGIN:VEVENT
DTSTART;TZID=Asia/Shanghai:20260511T093000
DTEND;TZID=Asia/Shanghai:20260511T153000
DTSTAMP:20260422T104833
CREATED:20260218T162212Z
LAST-MODIFIED:20260218T162234Z
UID:10000383-1778491800-1778513400@itma.org.sg
SUMMARY:39th CIO Workshop (Singapore)
DESCRIPTION:As organisations race to scale AI to deliver real business value\, the next leap forward begins when people\, machines and intelligent agents work together to drive enterprise reinvention. This year’s 39th CIO Workshop explores this theme in three dimensions: \n\nHumans: Leading the age of intelligence. The next wave starts with people – bold thinkers who imagine\, harness and govern AI to create impact and deliver results.\nAgents: Agile digital collaborators. Beyond automation lies true partnership. Intelligent agents amplify human potential\, transforming how we work and innovate.\nMachines: Intelligence in motion. Step into a world where machines act and adapt as AI enters reality\, bringing intelligence to life.\n\nThe workshop adopts a dual-location format\, starting with an interactive session in Singapore on 11 May 2026\, followed by an immersive overseas programme in Shenzhen and Guangzhou\, China from 12 to 16 May 2026. \n  \nSingapore – 11 May 2026 \nJoin our curated line-up of speakers offering insights shaped by experience in policy\, leadership and innovation. Hear from Ms Jasmin Lau\, Minister of State for the Ministry of Digital Development and Information\, as she shares how the government is driving AI-powered enterprise transformation and building an AI-ready workforce\, while George Yeo\, Visiting Scholar at the Lee Kuan Yew School of Public Policy\, will share insights on the state of AI development around the world and what this means for Singapore and Southeast Asia. \nLearn from Google how agentic AI is reshaping human–machine collaboration. Then join industry leaders as they unpack the ways autonomy\, robotics and embodied AI are being deployed across airports\, ports and urban infrastructure. Gain insights from the Monetary Authority of Singapore\, ServiceNow and leading financial institutions on how AI governance is embedded into daily operations — strengthening risk management\, accountability\, transparency and regulatory alignment at scale.
URL:https://itma.org.sg/event/39th-cio-workshop-singapore/
LOCATION:Raffles City Convention Centre\, 80 Bras Basah Road\, Level 4\, Singapore 189560
ATTACH;FMTTYPE=image/jpeg:https://itma.org.sg/itma/assets/2026/02/39CIOWS-ITMA-Web-Banner_with-logos-scaled.jpg
END:VEVENT
BEGIN:VEVENT
DTSTART;VALUE=DATE:20260512
DTEND;VALUE=DATE:20260517
DTSTAMP:20260422T104833
CREATED:20260218T162626Z
LAST-MODIFIED:20260218T162626Z
UID:10000384-1778544000-1778975999@itma.org.sg
SUMMARY:39th CIO Workshop (Shenzhen and Guangzhou)
DESCRIPTION:As organisations race to scale AI to deliver real business value\, the next leap forward begins when people\, machines and intelligent agents work together to drive enterprise reinvention. This year’s 39th CIO Workshop explores this theme in three dimensions: \n\nHumans: Leading the age of intelligence. The next wave starts with people – bold thinkers who imagine\, harness and govern AI to create impact and deliver results.\nAgents: Agile digital collaborators. Beyond automation lies true partnership. Intelligent agents amplify human potential\, transforming how we work and innovate.\nMachines: Intelligence in motion. Step into a world where machines act and adapt as AI enters reality\, bringing intelligence to life.\n\nThe workshop adopts a dual-location format\, starting with an interactive session in Singapore on 11 May 2026\, followed by an immersive overseas programme in Shenzhen and Guangzhou\, China from 12 to 16 May 2026. \n  \nShenzhen and Guangzhou\, China – 12-16 May 2026 \nExperience China’s innovation powerhouse for AI\, robotics and other future-ready technologies. Explore XPENG‘s intelligent manufacturing facility\, delve into Huawei‘s agentic AI applications and explore how BYD embeds AI from product development through to manufacturing. Engagements with UBTECH and EngineAI will give practitioner insights into how embodied AI is being developed and deployed in real world contexts\, and hear from public sector leadership at Longgang District AI (Robotics) Administration on how they are enabling a vibrant AI and robotics ecosystem in the district. Finally\, round off the journey at the 7th Shenzhen Global AI Expo\, offering a panoramic view of China’s rapidly evolving AI landscape.
URL:https://itma.org.sg/event/39th-cio-workshop-shenzhen-and-guangzhou/
LOCATION:Shenzhen and Guangzhou\, China
ATTACH;FMTTYPE=image/jpeg:https://itma.org.sg/itma/assets/2026/02/39CIOWS-ITMA-Web-Banner_with-logos-scaled.jpg
END:VEVENT
END:VCALENDAR