BEGIN:VCALENDAR
VERSION:2.0
PRODID:-//ITMA: IT Management Association - ECPv6.1.2.2//NONSGML v1.0//EN
CALSCALE:GREGORIAN
METHOD:PUBLISH
X-WR-CALNAME:ITMA: IT Management Association
X-ORIGINAL-URL:https://itma.org.sg
X-WR-CALDESC:Events for ITMA: IT Management Association
REFRESH-INTERVAL;VALUE=DURATION:PT1H
X-Robots-Tag:noindex
X-PUBLISHED-TTL:PT1H
BEGIN:VTIMEZONE
TZID:Asia/Shanghai
BEGIN:STANDARD
TZOFFSETFROM:+0800
TZOFFSETTO:+0800
TZNAME:CST
DTSTART:20260101T000000
END:STANDARD
END:VTIMEZONE
BEGIN:VEVENT
DTSTART;TZID=Asia/Shanghai:20260303T113000
DTEND;TZID=Asia/Shanghai:20260303T140000
DTSTAMP:20260422T020740
CREATED:20260130T094033Z
LAST-MODIFIED:20260130T094033Z
UID:10000381-1772537400-1772546400@itma.org.sg
SUMMARY:ITMA & BMC Chinese New Year Lo Hei Lunch
DESCRIPTION:Join ITMA and BMC for an exclusive Chinese New Year Lo Hei lunch as we welcome the Lunar New Year and usher in prosperity for the Year of the Horse. As modern businesses operate in increasingly complex hybrid environments—spanning legacy systems\, modern applications\, data pipelines\, and hybrid cloud infrastructures—operational complexity continues to rise. This challenge is further amplified as innovation and AI accelerate at an unprecedented pace. \nDiscover how BMC helps organisations use orchestration\, a core principle of DataOps\, to not only bring data projects into production faster\, but also run them at scale. Celebrate the festive season with us while gaining practical insights from BMC experts on: \n\n\nHarnessing the power of data to enable faster\, smarter business decisions \n\n\nOvercoming the challenges of operationalising data and moving projects into production \n\n\nScaling data initiatives through orchestration and DataOps to drive real business outcomes \n\n\nWe look forward to celebrating the Lunar New Year with you and sharing how smart automation can help you orchestrate extraordinary results.
URL:https://itma.org.sg/event/itma-bmc-chinese-new-year-lo-hei-lunch/
LOCATION:Mr. Bucket Chocolaterie\, Dempsey Factory 13 Dempsey Rd\, #01-03/04\, 249674
ATTACH;FMTTYPE=image/png:https://itma.org.sg/itma/assets/2026/01/BMC_CNY-Social-1.png
END:VEVENT
BEGIN:VEVENT
DTSTART;TZID=Asia/Shanghai:20260330T183000
DTEND;TZID=Asia/Shanghai:20260330T210000
DTSTAMP:20260422T020740
CREATED:20260130T100754Z
LAST-MODIFIED:20260130T100754Z
UID:10000382-1774895400-1774904400@itma.org.sg
SUMMARY:ITMA 46th Annual General Meeting
DESCRIPTION:
URL:https://itma.org.sg/event/itma-46th-annual-general-meeting/
LOCATION:Sentosa Development Corporation\, 39 Artillery Avenue\, Sentosa Singapore\, Singapore\, 099958\, Singapore
ATTACH;FMTTYPE=image/jpeg:https://itma.org.sg/itma/assets/2025/02/AGM-Copy.jpg
END:VEVENT
END:VCALENDAR