BEGIN:VCALENDAR
VERSION:2.0
PRODID:-//ITMA: IT Management Association - ECPv6.1.2.2//NONSGML v1.0//EN
CALSCALE:GREGORIAN
METHOD:PUBLISH
X-WR-CALNAME:ITMA: IT Management Association
X-ORIGINAL-URL:https://itma.org.sg
X-WR-CALDESC:Events for ITMA: IT Management Association
REFRESH-INTERVAL;VALUE=DURATION:PT1H
X-Robots-Tag:noindex
X-PUBLISHED-TTL:PT1H
BEGIN:VTIMEZONE
TZID:Asia/Shanghai
BEGIN:STANDARD
TZOFFSETFROM:+0800
TZOFFSETTO:+0800
TZNAME:CST
DTSTART:20260101T000000
END:STANDARD
END:VTIMEZONE
BEGIN:VEVENT
DTSTART;TZID=Asia/Shanghai:20260115T183000
DTEND;TZID=Asia/Shanghai:20260115T210000
DTSTAMP:20260422T124003
CREATED:20251217T064309Z
LAST-MODIFIED:20251217T070221Z
UID:10000378-1768501800-1768510800@itma.org.sg
SUMMARY:ITMA x SUSE x DELL x PTC System: Sake Appreciation
DESCRIPTION:For today’s IT leaders\, the mandate has shifted from maintaining operational resilience to architecting an infrastructure capable of supporting the next wave of AI and edge computing—all while navigating rising licensing costs and restrictive vendor lock-in. \nTo address these challenges\, SUSE\, DELL and PTC System cordially invite you to an exclusive executive dinner and sake appreciation experience focused on the competitive advantages of an open\, interoperable infrastructure. \nThis session will highlight high-impact strategies for the modern CIO\, including: \n\n\nUnified Management: How to manage any Kubernetes distribution (EKS\, AKS\, GKE) from a centralized platform. \n\n\nCost-Effective Virtualization: Reducing total cost of ownership by running VMs alongside containers without the need for expensive\, proprietary SANs. \n\n\nSecurity & Compliance: Utilizing full lifecycle security to meet strict compliance standards such as CIS Benchmarks and GDPR. \n\n\nYou will also gain real-world insights from customers who have successfully navigated their digital transformation journeys\, maintaining security from development through to production. \nJoin us for a night of strategic networking\, customer success stories\, and a taste of the open future.
URL:https://itma.org.sg/event/itma-x-suse-x-dell-x-ptc-system-sake-appreciation/
LOCATION:Robertson Room\, Level 3\, Four Points by Sheraton Singapore\, Robertson Room\, Level 3\, Four Points by Sheraton Singapore\, Riverview 382 Havelock Rd\, Singapore\, 169629
ATTACH;FMTTYPE=image/png:https://itma.org.sg/itma/assets/2025/12/SUSE-x-PTC-Sake-Appreciation_Social.png
END:VEVENT
BEGIN:VEVENT
DTSTART;TZID=Asia/Shanghai:20260123T123000
DTEND;TZID=Asia/Shanghai:20260123T180000
DTSTAMP:20260422T124003
CREATED:20251125T094729Z
LAST-MODIFIED:20251125T094729Z
UID:10000377-1769171400-1769191200@itma.org.sg
SUMMARY:ITMA Visit to Tuas Port
DESCRIPTION:We are excited to invite you to an exclusive ITMA member visit to PSA Tuas Port on Friday\, 23 January 2026. This specially arranged visit offers a rare opportunity for you to experience firsthand the scale\, innovation\, and technological advancements behind Singapore’s next generation mega port. \nAs the world’s largest fully automated container terminal when fully completed\, Tuas Port represents a major leap forward in intelligent port operations\, data-driven decision-making\, and smart logistics infrastructure. During this visit\, members will gain insights into PSA’s cutting-edge systems\, operational excellence\, and the digital technologies powering Singapore’s future in global trade. \nWhether you are passionate about digital transformation\, automation\, supply chain innovations\, or national infrastructure development\, this visit promises to be both informative and inspiring.
URL:https://itma.org.sg/event/itma-visit-to-tuas-port/
LOCATION:PSA Horizons\, 1 Harbour Drive\, 117352\, Singapore
ATTACH;FMTTYPE=image/png:https://itma.org.sg/itma/assets/2025/11/Tuas-Port_Social.png
END:VEVENT
BEGIN:VEVENT
DTSTART;TZID=Asia/Shanghai:20260129T160000
DTEND;TZID=Asia/Shanghai:20260129T210000
DTSTAMP:20260422T124003
CREATED:20251229T101110Z
LAST-MODIFIED:20251229T101110Z
UID:10000379-1769702400-1769720400@itma.org.sg
SUMMARY:ITMA x Cisco x Singtel Event: BMW Eurokars Experience Centre
DESCRIPTION:AI is now the engine powering tomorrow’s enterprises. C-suite leaders looking to accelerate AI adoption\, streamline end-to-end workflows\, and drive sustainable growth face a critical challenge: scaling AI securely and reliably is like navigating a high-performance car at top speed—it demands precision and control. \nSingtel’s AI-Ready Infrastructure with Cisco is built like a finely tuned engine for the enterprise. Designed to meet today’s operational needs while preparing for future growth\, it integrates high-performance servers\, networking\, and storage with advanced data centre networking and security capabilities. \nThis purpose-built foundation simplifies AI deployment by providing a secure\, optimised environment from the data centre to the edge. It is complemented by AI-ready networks that deliver low latency\, high bandwidth\, and air-gapped protection for sensitive data. \nSingtel\, together with Cisco and the ecosystem of partners—provides deployment expertise\, managed services\, and centralised infrastructure to help you harness generative AI with the precision and reliability of a premium performance drive. \nBe part of an exclusive evening where we will: \n\nExplore Cisco AI-ready infrastructure and Secure AI Factory solutions\nUnderstand your enterprise’s objectives in adopting AI\nBook a test drive to experience the latest BMW models\nCelebrate the Lunar New Year\n\nLearn more about Singtel’s AI Ready Infrastructure within the CUBΣ portfolio and how it delivers secure\, scalable AI solutions by visiting: Singtel AI-Ready Infrastructure.
URL:https://itma.org.sg/event/bmw-eurokars-experience-centre/
LOCATION:Mr. Bucket Chocolaterie\, Dempsey Factory 13 Dempsey Rd\, #01-03/04\, 249674
ATTACH;FMTTYPE=image/png:https://itma.org.sg/itma/assets/2025/12/BMW_Social.png
END:VEVENT
END:VCALENDAR