BEGIN:VCALENDAR
VERSION:2.0
PRODID:-//ITMA: IT Management Association - ECPv6.1.2.2//NONSGML v1.0//EN
CALSCALE:GREGORIAN
METHOD:PUBLISH
X-WR-CALNAME:ITMA: IT Management Association
X-ORIGINAL-URL:https://itma.org.sg
X-WR-CALDESC:Events for ITMA: IT Management Association
REFRESH-INTERVAL;VALUE=DURATION:PT1H
X-Robots-Tag:noindex
X-PUBLISHED-TTL:PT1H
BEGIN:VTIMEZONE
TZID:Asia/Shanghai
BEGIN:STANDARD
TZOFFSETFROM:+0800
TZOFFSETTO:+0800
TZNAME:CST
DTSTART:20250101T000000
END:STANDARD
END:VTIMEZONE
BEGIN:VEVENT
DTSTART;TZID=Asia/Shanghai:20250807T173000
DTEND;TZID=Asia/Shanghai:20250807T210000
DTSTAMP:20260422T063706
CREATED:20250709T085216Z
LAST-MODIFIED:20250731T121247Z
UID:10000368-1754587800-1754600400@itma.org.sg
SUMMARY:ITMA & Tricentis MasterChef Challenge
DESCRIPTION:Get ready for the Masterchef Challenge of the year! \nAs the world embraces more AI technologies\, it’s time to explore how AI can help us whip up delicious\, healthy dishes while promoting food sustainability and reducing food waste. \nJoin us for a 3-hour AI culinary session packed with fun\, laughter\, and unique experiences\, where you will collaborate to create mouth-watering three-course meal. No cooking experience necessary — just come ready to explore the possibilities of AI!
URL:https://itma.org.sg/event/itma-tricentis-masterchef-challenge/
LOCATION:Kitchen Showdown\, 37A Boat Quay\, #02-01\, 049826\, Singapore
ATTACH;FMTTYPE=image/jpeg:https://itma.org.sg/itma/assets/2025/07/DM-01516-Tricentis-AI-Masterchef-Challenge-2025-1200px-x-1200px-Email-Header-scaled.jpg
END:VEVENT
BEGIN:VEVENT
DTSTART;TZID=Asia/Shanghai:20250828T173000
DTEND;TZID=Asia/Shanghai:20250828T213000
DTSTAMP:20260422T063706
CREATED:20250723T030020Z
LAST-MODIFIED:20250723T030020Z
UID:10000369-1756402200-1756416600@itma.org.sg
SUMMARY:ITMA & Veeam V-Club Pickleball Clinic
DESCRIPTION:We are delighted to invite you to an exclusive V-Club Pickleball Clinic with Veeam! Register now for a fantastic opportunity to have fun while networking with your peers and industry experts. Whether you are a seasoned player or new to the paddle\, we would love for you to join us! Professional coaches will also be on hand to share tips and help you upgrade your skills. \nVeeam is the global leader in data protection\, holding the #1 market share for data resilience. Its innovative solutions ensure secure\, efficient backup and recovery\, portability\, and intelligence — empowering your business to thrive and grow confidently without the worry of data loss. The future of modern data protection awaits — and we look forward to seeing you there!
URL:https://itma.org.sg/event/itma-veeam-v-club-pickleball-clinic/
LOCATION:The Tanglin Gin Jungle\, 26B Dempsey Rd\, 247693\, Singapore
ATTACH;FMTTYPE=image/png:https://itma.org.sg/itma/assets/2025/07/V-club-pickleball-Social-2.png
END:VEVENT
END:VCALENDAR