BEGIN:VCALENDAR
VERSION:2.0
PRODID:-//ITMA: IT Management Association - ECPv6.1.2.2//NONSGML v1.0//EN
CALSCALE:GREGORIAN
METHOD:PUBLISH
X-ORIGINAL-URL:https://itma.org.sg
X-WR-CALDESC:Events for ITMA: IT Management Association
REFRESH-INTERVAL;VALUE=DURATION:PT1H
X-Robots-Tag:noindex
X-PUBLISHED-TTL:PT1H
BEGIN:VTIMEZONE
TZID:Asia/Shanghai
BEGIN:STANDARD
TZOFFSETFROM:+0800
TZOFFSETTO:+0800
TZNAME:CST
DTSTART:20160101T000000
END:STANDARD
END:VTIMEZONE
BEGIN:VEVENT
DTSTART;TZID=Asia/Shanghai:20180328T083000
DTEND;TZID=Asia/Shanghai:20180328T203000
DTSTAMP:20260422T060418
CREATED:20230610T002106Z
LAST-MODIFIED:20230614T015657Z
UID:10000123-1522225800-1522269000@itma.org.sg
SUMMARY:Future-Ready\, Value-Creating Digital Leaders
DESCRIPTION:Newly Elected ITMA Executive Council 2018/2019 \n\n\n\nDear Valued ITMA Member \, \nNewly Elected ITMA Executive Council 2018/2019 \nThe Information Technology Management Association\, Singapore\, held its 38th Annual General Meeting on Wednesday\, 28th March 2018 at the Singapore Marriott Tang Plaza Hotel. We are pleased to announce that the following members have been elected to the ITMA Executive Council for the year 2018/2019. \nCongratulations to the following members who have been elected to the ITMA Executive Council 2018/2019. \n\n\n\nOFFICE\nNAME\n\n\n President\n Siew Yim Cheng\n\n\n Vice-President\n Alan Goh\n\n\n Vice-President\n Alvin Tan\n\n\n Hon Secretary\n Mark Tham\n\n\n Treasurer\n Gan Wei Boon\n\n\n Council Member\n Lewis Chan\n\n\n Council Member\n Chong Nai Min\n\n\nCouncil Member\nKendrick Lee\n\n\nCouncil Member\nIvan Ng\n\n\nCouncil Member\nPoh Lai Khim\n\n\nCouncil Member\nPeter Quek\n\n\nCouncil Member\nSee Yoong Hwee\n\n\nCouncil Member\nSoh Kin Wei\n\n\nHon Legal Advisor\nDr Toh See Kiat\n\n\nHon Auditor\nLee Kee Siang\n\n\nHon Auditor\nTan Bee Teck\n\n\n\n  \nOnce again\, thank you for your support and we look forward to seeing you at the ITMA events! \nBest Regards\, \nMark Tham\nHonorary Secretary
URL:https://itma.org.sg/event/future-ready-value-creating-digital-leaders/
LOCATION:Singapore Marriott Tang Plaza Hotel\, Singapore
ATTACH;FMTTYPE=image/png:https://itma.org.sg/itma/assets/2023/06/e32.png
END:VEVENT
BEGIN:VEVENT
DTSTART;TZID=Asia/Shanghai:20180212T174500
DTEND;TZID=Asia/Shanghai:20180212T204500
DTSTAMP:20260422T060418
CREATED:20230610T002635Z
LAST-MODIFIED:20230614T015657Z
UID:10000126-1518457500-1518468300@itma.org.sg
SUMMARY:ITMA Dialogue with the CEO
DESCRIPTION:We are having our inaugural session of the ‘ITMA Dialogue with the CEO’ event. As IT leaders in Singapore\, you will appreciate the need for — and for many of you\, be involved in — digital transformation within your respective organisations. In this session\, come\, hear\, and engage in dialogue with the Chief Executive of IMDA\, Mr. Tan Kiat How\, as he shares how IMDA is leading digital transformation at a national level. \n\n\n\nDear ITMA Members\, \nWe are having our inaugural session of the ‘ITMA Dialogue with the CEO’ event. As IT leaders in Singapore\, you will appreciate the need for — and for many of you\, be involved in — digital transformation within your respective organisations. In this session\, come\, hear\, and engage in dialogue with the Chief Executive of IMDA\, Mr. Tan Kiat How\, as he shares how IMDA is leading digital transformation at a national level. To facilitate a conducive setting for this ‘fireside chat’\, we will be holding it at a unique co-working venue called thebridge. Co-working is a recent phenomenon and digital disruptor in the office real estate sector. As a prelude to the main session\, we will be having a short presentation on the rise of co-working and a tour of thebridge’s premises. \nSYNOPSIS \nThe Infocomm Media Development Authority (IMDA) leads Singapore’s digital transformation with infocomm media. \nTo do this\, IMDA will develop a dynamic digital economy and a cohesive digital society\, driven by an exceptional infocomm media (ICM) ecosystem – by developing talent\, strengthening business capabilities\, and enhancing Singapore’s ICM infrastructure. IMDA also regulates the telecommunications and media sectors to safeguard consumer interests while fostering a pro-business environment\, and enhances Singapore’s data protection regime through the Personal Data Protection Commission.
URL:https://itma.org.sg/event/itma-dialogue-with-the-ceo-2/
LOCATION:Metro\,\, thebridge 2 Science Park Drive #01-01 Ascent Singapore 118222\, Singapore
ATTACH;FMTTYPE=image/png:https://itma.org.sg/itma/assets/2023/06/e17.png
END:VEVENT
BEGIN:VEVENT
DTSTART;TZID=Asia/Shanghai:20180207T150000
DTEND;TZID=Asia/Shanghai:20180207T170000
DTSTAMP:20260422T060418
CREATED:20230610T002918Z
LAST-MODIFIED:20230614T015657Z
UID:10000127-1518015600-1518022800@itma.org.sg
SUMMARY:ITMA Visit to National Supercomputing Centre Singapore
DESCRIPTION:ITMA members will get to hear NSCC supercomputing capabilities\, use case for artificial intelligence\, as well as collaboration opportunities between government agencies and the industry.
URL:https://itma.org.sg/event/itma-visit-to-national-supercomputing-centre-singapore/
LOCATION:NSCC‘s Office\,\, Charles Babagge Room\, 1 Fusionopolis Way\, level 17\, Connexis South Tower\, Singapore
ATTACH;FMTTYPE=image/png:https://itma.org.sg/itma/assets/2023/06/e34.png
END:VEVENT
BEGIN:VEVENT
DTSTART;TZID=Asia/Shanghai:20180126T183000
DTEND;TZID=Asia/Shanghai:20180126T223000
DTSTAMP:20260422T060418
CREATED:20230610T004444Z
LAST-MODIFIED:20230614T015657Z
UID:10000128-1516991400-1517005800@itma.org.sg
SUMMARY:ITMA 37th Annual Dinner
DESCRIPTION:On Friday\, 26th January 2018\, come dressed in your most futuristic dressing and join fellow members to be teleported into the futuristic world at The St Regis Singapore. It will be a dream that you will never imagine!
URL:https://itma.org.sg/event/itma-37th-annual-dinner/
LOCATION:The St. Regis Singapore\, 29 Tanglin Road\, Singapore 247911\, Singapore
ATTACH;FMTTYPE=image/png:https://itma.org.sg/itma/assets/2023/06/e35.png
END:VEVENT
BEGIN:VEVENT
DTSTART;TZID=Asia/Shanghai:20180112T080000
DTEND;TZID=Asia/Shanghai:20180112T223000
DTSTAMP:20260422T060418
CREATED:20230610T004830Z
LAST-MODIFIED:20230614T015657Z
UID:10000129-1515744000-1515796200@itma.org.sg
SUMMARY:ITMA Good Morning CIO Breakfast Roundtable #2 - Building a High Performance IT Team - the LTA Journey by Rosina Howe
DESCRIPTION:We are glad to have Mrs Rosina Howe-Teo to lead our Good Morning CIO! Breakfast Roundtable #2 with a topic on “Building a High Performance IT Team – the LTA Journey”.
URL:https://itma.org.sg/event/itma-good-morning-cio-breakfast-roundtable-2-building-a-high-performance-it-team-the-lta-journey-by-rosina-howe/
LOCATION:NUSS Guild House\, 3 Temasek Boulevard (Tower 5) #02- 401/402 Suntec City Mall\, 038983\, Singapore
ATTACH;FMTTYPE=image/png:https://itma.org.sg/itma/assets/2023/06/e36.png
END:VEVENT
BEGIN:VEVENT
DTSTART;TZID=Asia/Shanghai:20171221T170000
DTEND;TZID=Asia/Shanghai:20171221T200000
DTSTAMP:20260422T060418
CREATED:20230610T005140Z
LAST-MODIFIED:20230614T015657Z
UID:10000130-1513875600-1513886400@itma.org.sg
SUMMARY:ITMA Whiskey Appreciation and Everyone is a VIP (Waitlist)
DESCRIPTION:In partnership with Menlo Security\, ITMA invites our members to come and celebrate Christmas early. Seats are limited! Please click here to register early for the event\, to avoid any disappointment.
URL:https://itma.org.sg/event/itma-whiskey-appreciation-and-everyone-is-a-vip-waitlist/
LOCATION:BISTRO 1855 3 Temasek Boulevard\, #01-643 Suntec City Mall East Wing Singapore 038983\, Singapore
ATTACH;FMTTYPE=image/png:https://itma.org.sg/itma/assets/2023/06/e38.png
END:VEVENT
BEGIN:VEVENT
DTSTART;TZID=Asia/Shanghai:20171130T181500
DTEND;TZID=Asia/Shanghai:20171130T203000
DTSTAMP:20260422T060418
CREATED:20230610T005502Z
LAST-MODIFIED:20230614T135153Z
UID:10000131-1512065700-1512073800@itma.org.sg
SUMMARY:ITMA Sake Appreciation Night (Full House)
DESCRIPTION:Join us for an exclusive networking night of sake and canapes on Thursday\, 30th November 2017. Don’t hesitate\, come and learn more about Sake\, its ingredients used and how you can pair it with food.
URL:https://itma.org.sg/event/itma-sake-appreciation-night-full-house/
LOCATION:The Orihara Shoten Bar 11\, Unity Street #01-02 Robertson Walk Singapore 237995\, Singapore
ATTACH;FMTTYPE=image/png:https://itma.org.sg/itma/assets/2023/06/e40.png
END:VEVENT
BEGIN:VEVENT
DTSTART;TZID=Asia/Shanghai:20171110T180000
DTEND;TZID=Asia/Shanghai:20171110T220000
DTSTAMP:20260422T060418
CREATED:20230610T005746Z
LAST-MODIFIED:20230614T015657Z
UID:10000132-1510336800-1510351200@itma.org.sg
SUMMARY:ITMA Event - Digital Transformation: A Data Driven Journey
DESCRIPTION:Join us for another special ITMA event organized in partnership with Informatica. As seats are limited\, please register early to avoid disappointment.
URL:https://itma.org.sg/event/itma-event-digital-transformation-a-data-driven-journey/
LOCATION:Indocafé –\, the white house 35 Scotts Road Singapore 228227\, Singapore
ATTACH;FMTTYPE=image/png:https://itma.org.sg/itma/assets/2023/06/e41.png
END:VEVENT
BEGIN:VEVENT
DTSTART;TZID=Asia/Shanghai:20170926T214500
DTEND;TZID=Asia/Shanghai:20170926T214500
DTSTAMP:20260422T060418
CREATED:20230610T010052Z
LAST-MODIFIED:20230614T015657Z
UID:10000133-1506462300-1506462300@itma.org.sg
SUMMARY:ITMA Site Visit To Google - Tuesday\, 26th September 2017 (9:45am To 1.00pm) [Full House]
DESCRIPTION:There are two mega trends affecting the world of IT today. A visit to Google is organized on 26th September 2017. Come to what promises to be a most fascinating session at Google to learn more.
URL:https://itma.org.sg/event/itma-site-visit-to-google-tuesday-26th-september-2017-945am-to-1-00pm-full-house/
LOCATION:Mapletree Business City\, II 70 Pasir Panjang Rd\, Singapore 117371\, Singapore
ATTACH;FMTTYPE=image/png:https://itma.org.sg/itma/assets/2023/06/e42.png
END:VEVENT
BEGIN:VEVENT
DTSTART;TZID=Asia/Shanghai:20170902T000000
DTEND;TZID=Asia/Shanghai:20170902T114500
DTSTAMP:20260422T060418
CREATED:20230610T010400Z
LAST-MODIFIED:20230614T015657Z
UID:10000134-1504310400-1504352700@itma.org.sg
SUMMARY:11th ITMA CIO Study Trip - 2nd - 10th September 2017
DESCRIPTION:The Study Trip is an exclusive event for CIOs/IT Heads and Heads of Function and has been well regarded as a great opportunity to learn and network with industry peers from different industries.
URL:https://itma.org.sg/event/11th-itma-cio-study-trip-2nd-10th-september-2017/
LOCATION:Stockholm and Prague\, Singapore
ATTACH;FMTTYPE=image/png:https://itma.org.sg/itma/assets/2023/06/e43.png
END:VEVENT
BEGIN:VEVENT
DTSTART;TZID=Asia/Shanghai:20170829T083000
DTEND;TZID=Asia/Shanghai:20170829T090000
DTSTAMP:20260422T060418
CREATED:20230610T010631Z
LAST-MODIFIED:20230614T015657Z
UID:10000135-1503995400-1503997200@itma.org.sg
SUMMARY:ITMA's Good Morning CIO! Breakfast Roundtable #1 | CIO Leadership – Remaining Relevant in the Age of Digital Transformation on Tuesday\, 29 August 2017
DESCRIPTION:We are having our Good Morning CIO! Breakfast Roundtable #1 for 2017with a topic on “CIO Leadership – Remaining Relevant in the Age of Digital Transformation”.
URL:https://itma.org.sg/event/itmas-good-morning-cio-breakfast-roundtable-1-cio-leadership-remaining-relevant-in-the-age-of-digital-transformation-on-tuesday-29-august-2017/
LOCATION:NUSS Guild House\, 3 Temasek Boulevard (Tower 5) #02- 401/402 Suntec City Mall\, 038983\, Singapore
ATTACH;FMTTYPE=image/png:https://itma.org.sg/itma/assets/2023/06/e44.png
END:VEVENT
BEGIN:VEVENT
DTSTART;TZID=Asia/Shanghai:20170704T094500
DTEND;TZID=Asia/Shanghai:20170704T130000
DTSTAMP:20260422T060418
CREATED:20230610T010943Z
LAST-MODIFIED:20230614T015657Z
UID:10000136-1499161500-1499173200@itma.org.sg
SUMMARY:ITMA Site Visit To Google - Tuesday\, 4th July 2017 (9:45am To 1.00pm)
DESCRIPTION:There are two mega trends affecting the world of IT today. A visit to Google is organized on 4th July 2017. Come to what promises to be a most fascinating session at Google to learn more.
URL:https://itma.org.sg/event/itma-site-visit-to-google-tuesday-4th-july-2017-945am-to-1-00pm/
LOCATION:Mapletree Business City\, II 70 Pasir Panjang Rd\, Singapore 117371\, Singapore
ATTACH;FMTTYPE=image/png:https://itma.org.sg/itma/assets/2023/06/e45.png
END:VEVENT
BEGIN:VEVENT
DTSTART;TZID=Asia/Shanghai:20170629T183000
DTEND;TZID=Asia/Shanghai:20170629T210000
DTSTAMP:20260422T060418
CREATED:20230610T011145Z
LAST-MODIFIED:20230614T015657Z
UID:10000137-1498761000-1498770000@itma.org.sg
SUMMARY:ITMA Professional Development Event: Enhancing Your Personal Brand!
DESCRIPTION:Delivering your brand clearly and consistently will create a memorable experience in the minds of those you interact with and can open doors to new opportunities. It’s a skill that can be learnt!
URL:https://itma.org.sg/event/itma-professional-development-event-enhancing-your-personal-brand/
LOCATION:NUSS Guild House\, 3 Temasek Boulevard (Tower 5) #02- 401/402 Suntec City Mall\, 038983\, Singapore
ATTACH;FMTTYPE=image/png:https://itma.org.sg/itma/assets/2023/06/e46.png
END:VEVENT
BEGIN:VEVENT
DTSTART;TZID=Asia/Shanghai:20170526T080000
DTEND;TZID=Asia/Shanghai:20170526T100000
DTSTAMP:20260422T060418
CREATED:20230610T011651Z
LAST-MODIFIED:20230614T015657Z
UID:10000138-1495785600-1495792800@itma.org.sg
SUMMARY:ITMA Professional Development Event: Dialogue with the Chairman/CEO
DESCRIPTION:The ITMA Professional Development Event: Dialogue with the Chairman/CEO on the topic “Inspiring Innovation in the Age of Disruption!” will be held on 26th May 2017 (Friday).
URL:https://itma.org.sg/event/itma-professional-development-event-dialogue-with-the-chairman-ceo/
LOCATION:Equinox Skysuite 2 Level 69\,\, Equinox Complex Swissotel The Stamford\, Singapore
ATTACH;FMTTYPE=image/png:https://itma.org.sg/itma/assets/2023/06/e47.png
END:VEVENT
BEGIN:VEVENT
DTSTART;TZID=Asia/Shanghai:20170524T130000
DTEND;TZID=Asia/Shanghai:20170524T170000
DTSTAMP:20260422T060418
CREATED:20230610T011955Z
LAST-MODIFIED:20230614T015643Z
UID:10000139-1495630800-1495645200@itma.org.sg
SUMMARY:Smart Nation Industry Briefing (IB) 2017
DESCRIPTION:Organised by the Government Technology Agency of Singapore (GovTech)\, this briefing will cover upcoming ICT initiatives\, partnership opportunities and key ICT projects by Government agencies.
URL:https://itma.org.sg/event/smart-nation-industry-briefing-ib-2017/
LOCATION:The Sands Expo\, and Convention Centre\, Singapore
ATTACH;FMTTYPE=image/png:https://itma.org.sg/itma/assets/2023/06/e48.png
END:VEVENT
BEGIN:VEVENT
DTSTART;TZID=Asia/Shanghai:20170516T000000
DTEND;TZID=Asia/Shanghai:20170516T115900
DTSTAMP:20260422T060418
CREATED:20230614T162458Z
LAST-MODIFIED:20230614T162458Z
UID:10000293-1494892800-1494935940@itma.org.sg
SUMMARY:Final call to register for the 30th CIO Workshop | 16-19 May 2017\, Singapore & Shanghai
DESCRIPTION:We are delighted to invite you to the 30th CIO Workshop jointly organized by Accenture and the Information Technology Management Association (ITMA). This year as we celebrate our 30th anniversary milestone\, we have lined up a content-rich programme for our delegates.
URL:https://itma.org.sg/event/final-call-to-register-for-the-30th-cio-workshop-16-19-may-2017-singapore-shanghai-2/
LOCATION:Singapore & Shanghai\, Singapore
ATTACH;FMTTYPE=image/png:https://itma.org.sg/itma/assets/2023/06/e11-1.png
END:VEVENT
BEGIN:VEVENT
DTSTART;TZID=Asia/Shanghai:20170516T000000
DTEND;TZID=Asia/Shanghai:20170516T115900
DTSTAMP:20260422T060418
CREATED:20230610T012514Z
LAST-MODIFIED:20230614T015643Z
UID:10000140-1494892800-1494935940@itma.org.sg
SUMMARY:Final call to register for the 30th CIO Workshop | 16-19 May 2017\, Singapore & Shanghai
DESCRIPTION:We are delighted to invite you to the 30th CIO Workshop jointly organized by Accenture and the Information Technology Management Association (ITMA). This year as we celebrate our 30th anniversary milestone\, we have lined up a content-rich programme for our delegates.
URL:https://itma.org.sg/event/final-call-to-register-for-the-30th-cio-workshop-16-19-may-2017-singapore-shanghai/
LOCATION:Singapore &\, Shanghai\, Singapore
ATTACH;FMTTYPE=image/png:https://itma.org.sg/itma/assets/2023/06/e49.png
END:VEVENT
BEGIN:VEVENT
DTSTART;TZID=Asia/Shanghai:20170425T180000
DTEND;TZID=Asia/Shanghai:20170425T210000
DTSTAMP:20260422T060418
CREATED:20230610T013213Z
LAST-MODIFIED:20230614T015643Z
UID:10000141-1493143200-1493154000@itma.org.sg
SUMMARY:ITMA Engagement Event: Building A High Performance Organisation with a Data-Driven Culture - Tuesday\, 25th April 2017
DESCRIPTION:Join us for another special ITMA event on Tuesday\, 25th April 2017\, to hear from one such company\, Tableau\, who has embraced a data-driven strategy. They have successfully built a pervasive culture to confidently use data to drive business outcomes.
URL:https://itma.org.sg/event/itma-engagement-event-building-a-high-performance-organisation-with-a-data-driven-culture-tuesday-25th-april-2017/
LOCATION:Candlenut 17A Dempsey Road\, | COMO Lifestyle | Singapore 249676\, Singapore
ATTACH;FMTTYPE=image/png:https://itma.org.sg/itma/assets/2023/06/e50.png
END:VEVENT
BEGIN:VEVENT
DTSTART;TZID=Asia/Shanghai:20170329T000000
DTEND;TZID=Asia/Shanghai:20170330T235900
DTSTAMP:20260422T060418
CREATED:20230610T013531Z
LAST-MODIFIED:20230614T135918Z
UID:10000142-1490745600-1490918340@itma.org.sg
SUMMARY:Asia’s leading IoT event returns with over 100 exhibitors in March 2017!
DESCRIPTION:We have 15% off prevailing Single Track and All-Access Conferences rates (except Academic rates) for ITMA members. The registration link is http://www.internetofthingsasia.com/registration and please use the following promo code: IOT17SPA15. \nClick here to go into the website.
URL:https://itma.org.sg/event/asias-leading-iot-event-returns-with-over-100-exhibitors-in-march-2017/
LOCATION:Singapore\, Singapore
ATTACH;FMTTYPE=image/png:https://itma.org.sg/itma/assets/2023/06/e51.png
END:VEVENT
BEGIN:VEVENT
DTSTART;TZID=Asia/Shanghai:20170328T183000
DTEND;TZID=Asia/Shanghai:20170328T203000
DTSTAMP:20260422T060418
CREATED:20230610T013857Z
LAST-MODIFIED:20230614T015643Z
UID:10000143-1490725800-1490733000@itma.org.sg
SUMMARY:ITMA 37th Annual General Meeting
DESCRIPTION:ITMA’s Annual General Meeting will take place on Tuesday\, 28th March 2017 at 6:30pm\, at Embassy & Consulate Room\, Level 1\, The St. Regis Singapore. Please click to view Notice of Annual General Meeting 2017. \n \n\n\n\n\n\n\n\n\n\n\n\n\nNOTICE OF ANNUAL GENERAL MEETING 2017\nITMA’s Annual General Meeting will take place on\nTuesday\, 28th March 2017 at 6:30pm\, at Embassy & Consulate Room\,\nLevel 1\, The St. Regis Singapore.  \nPlease click HERE to view Notice of Annual General Meeting 2017.\n\n\n\n\n\n\n\n\n\n\n\n\n\n\n\n\n\n\n\n\n\n\n\n\n\n\n\n\n\n\n\n\n\n\n\nPlease click on the following to register or/and download the nomination form.\n\n\n\n\n\n\n\n\n\n\n\n\n\n\n\n\n\n\n\n\nI will be attending the Annual General Meeting\n\n\n\n\n\n\n\n\n\n\n\n\n\n\n\n\n\n\n\n\n\n\n\n\nAccess to Nomination Form
URL:https://itma.org.sg/event/itma-37th-annual-general-meeting/
LOCATION:Embassy & Consulate Room\,\, Level 1\, The St. Regis Singapore\, Singapore
ATTACH;FMTTYPE=image/png:https://itma.org.sg/itma/assets/2023/06/e52.png
END:VEVENT
BEGIN:VEVENT
DTSTART;TZID=Asia/Shanghai:20170323T150000
DTEND;TZID=Asia/Shanghai:20170323T170000
DTSTAMP:20260422T060418
CREATED:20230610T014228Z
LAST-MODIFIED:20230614T015643Z
UID:10000144-1490281200-1490288400@itma.org.sg
SUMMARY:ITMA Site Visit To SingPost - Thursday\, 23rd March 2017 (3.00pm To 5.00pm)
DESCRIPTION:Mark your calendar and join us on Thursday\, 23rd March 2017 to find out how automation plays a big part\, resulting in the entire eComm Log Hub being integrated end-to-end from the eCommerce front-end platform to warehouse automation to last mile delivery.
URL:https://itma.org.sg/event/itma-site-visit-to-singpost-thursday-23rd-march-2017-3-00pm-to-5-00pm/
LOCATION:Singpost Regional eCommerce\, Logistics Hub | 37 Greenwich Drive Singapore 533864\, Singapore
ATTACH;FMTTYPE=image/png:https://itma.org.sg/itma/assets/2023/06/e53.png
END:VEVENT
BEGIN:VEVENT
DTSTART;TZID=Asia/Shanghai:20170309T083000
DTEND;TZID=Asia/Shanghai:20170309T103000
DTSTAMP:20260422T060418
CREATED:20230610T014504Z
LAST-MODIFIED:20230614T015643Z
UID:10000145-1489048200-1489055400@itma.org.sg
SUMMARY:ITMA-SCS Digital Leadership Breakfast Seminar - Thursday\, 9 March 2017 (FULL)
DESCRIPTION:Come meet IBM Global CIO – Jeff Smith and listen to the successes and challenges in scaling Agile across the IBM company. The event is for C-level Executives\, Business Leaders\, Senior Management Executives\, Strategic Planners and Decision Makers of ICM industry. \n\n\n\nThe registration has been closed. Thank you for your support!
URL:https://itma.org.sg/event/itma-scs-digital-leadership-breakfast-seminar-thursday-9-march-2017-full/
LOCATION:NUSS Guild House\, 3 Temasek Boulevard (Tower 5) #02- 401/402 Suntec City Mall\, 038983\, Singapore
ATTACH;FMTTYPE=image/png:https://itma.org.sg/itma/assets/2023/06/e54.png
END:VEVENT
BEGIN:VEVENT
DTSTART;TZID=Asia/Shanghai:20170113T183000
DTEND;TZID=Asia/Shanghai:20170113T183000
DTSTAMP:20260422T060418
CREATED:20230610T014828Z
LAST-MODIFIED:20230614T015643Z
UID:10000146-1484332200-1484332200@itma.org.sg
SUMMARY:ITMA 36th Annual Dinner
DESCRIPTION:Mark this date on your calendar. Come and be part of the celebration and connect with other like-minded members\, CIOs and senior staff of the various IT organisations! \n 
URL:https://itma.org.sg/event/itma-36th-annual-dinner/
LOCATION:Sentosa Development Corporation\, 39 Artillery Avenue\, Sentosa Singapore\, Singapore\, 099958\, Singapore
ATTACH;FMTTYPE=image/jpeg:https://itma.org.sg/itma/assets/2023/06/2017-01-13-ITMA_2017_eDM_2.jpg
END:VEVENT
BEGIN:VEVENT
DTSTART;TZID=Asia/Shanghai:20161122T180000
DTEND;TZID=Asia/Shanghai:20161122T210000
DTSTAMP:20260422T060418
CREATED:20230610T015150Z
LAST-MODIFIED:20230614T140224Z
UID:10000147-1479837600-1479848400@itma.org.sg
SUMMARY:ITMA Engagement Event - Disruption on The Horizon
DESCRIPTION:In Partnership with Amazon Web Services\, ITMA brings to you an opportunity to look ahead to see how the Amazon Echo can be used for businesses.
URL:https://itma.org.sg/event/itma-engagement-event-disruption-on-the-horizon/
LOCATION:Stuttgart Blackforest Boutique\, S-Cafe 9 Bras Basah Road #01-01 Rendezvous Hotel Gallery Singapore 189559\, Singapore
ATTACH;FMTTYPE=image/jpeg:https://itma.org.sg/itma/assets/2023/06/2016-11-22-info.jpg
END:VEVENT
BEGIN:VEVENT
DTSTART;TZID=Asia/Shanghai:20161104T000000
DTEND;TZID=Asia/Shanghai:20161104T235900
DTSTAMP:20260422T060418
CREATED:20230610T015818Z
LAST-MODIFIED:20230614T015643Z
UID:10000148-1478217600-1478303940@itma.org.sg
SUMMARY:ITMA 22nd IT Best Practices Seminar – Friday\, 4th November 2016
DESCRIPTION:The annual IT Best Practices (ITBP) Seminar brings together CIOs\, senior management\, and leading IT practitioners from government and industry to consider and think about areas crucial to the IT industry in Singapore. \n\n\n\nFor more information\, please go to http://www.eventspeople.com/itbp2016/index.html
URL:https://itma.org.sg/event/itma-22nd-it-best-practices-seminar-friday-4th-november-2016/
LOCATION:Hotel Intercontinental\, Sinapore 188966\, Singapore
ATTACH;FMTTYPE=image/jpeg:https://itma.org.sg/itma/assets/2023/06/2016-11-04-event-r.jpg
END:VEVENT
BEGIN:VEVENT
DTSTART;TZID=Asia/Shanghai:20161021T000000
DTEND;TZID=Asia/Shanghai:20161021T235900
DTSTAMP:20260422T060418
CREATED:20230610T020250Z
LAST-MODIFIED:20230614T015643Z
UID:10000149-1477008000-1477094340@itma.org.sg
SUMMARY:[Full House] 10th ITMA CIO Study Trip - Silicon Valley & San Francisco (SAVE the dates: 21st to 29th October 2016)
DESCRIPTION:The Chief Information Officer (CIO) Study Trip is an event exclusively for CIOs\, IT Heads and other Head of Functions. This ITMA flagship event has been well regarded as a great opportunity to learn\, network\, and share with peers from different industries. \n\n\n\nFull House! Due to overwhelming response\, the registration is now closed for the 10th CIO Study Trip. Thank you for your support.\nFrom: The Planning Team \n 
URL:https://itma.org.sg/event/full-house-10th-itma-cio-study-trip-silicon-valley-san-francisco-save-the-dates-21st-to-29th-october-2016/
LOCATION:San Francisco\, (US\, West Coast)\, Singapore
ATTACH;FMTTYPE=image/jpeg:https://itma.org.sg/itma/assets/2023/06/2016-10-21-CIO_Study_Trip_2.jpg
END:VEVENT
BEGIN:VEVENT
DTSTART;TZID=Asia/Shanghai:20160922T180000
DTEND;TZID=Asia/Shanghai:20160922T210000
DTSTAMP:20260422T060418
CREATED:20230610T020551Z
LAST-MODIFIED:20230614T015643Z
UID:10000150-1474567200-1474578000@itma.org.sg
SUMMARY:ITMA Engagement Event: "Security Companies - Who is keeping THEM secured?" - Thursday\, 22nd September @ ALBA 1836
DESCRIPTION:Join us for another special ITMA event organised in partnership with CA Technologies. Hear from these 2 special speakers how they keep their own organisation safe\, the situations that they have encountered and the lessons they have learnt.
URL:https://itma.org.sg/event/itma-engagement-event-security-companies-who-is-keeping-them-secured-thursday-22nd-september-alba-1836/
LOCATION:ALBA 1836 Wine Bar & Restaurant\, 28 Duxton Hill #01-01 Singapore 089610\, Singapore
ATTACH;FMTTYPE=image/jpeg:https://itma.org.sg/itma/assets/2023/06/2016-09-22-event.jpg
END:VEVENT
BEGIN:VEVENT
DTSTART;TZID=Asia/Shanghai:20160819T140000
DTEND;TZID=Asia/Shanghai:20160819T140000
DTSTAMP:20260422T060418
CREATED:20230610T020739Z
LAST-MODIFIED:20230614T015643Z
UID:10000151-1471615200-1471615200@itma.org.sg
SUMMARY:Site Visit to IDA@Hive - Friday\, 19th August 2016 (Limited to 20 seats Only)
DESCRIPTION:Hackers\, coders\, ruby and python for digital strategy? Mark your calendar and join us on Friday\, 19th August 2016\, as we will take you to the unit secretly tucked inside Sandcrawler to learn how you can enhance your customer digital experience and engagement.
URL:https://itma.org.sg/event/site-visit-to-idahive-friday-19th-august-2016-limited-to-20-seats-only/
LOCATION:IDA @ Hive\, 1 Fusionopolis View\, #08-01\,\, Sandcrawler\, Singapore 138577\, Singapore
ATTACH;FMTTYPE=image/jpeg:https://itma.org.sg/itma/assets/2023/06/2016-08-19-Site_Visit_to_IDA_Hive.jpg
END:VEVENT
BEGIN:VEVENT
DTSTART;TZID=Asia/Shanghai:20160728T150000
DTEND;TZID=Asia/Shanghai:20160728T200000
DTSTAMP:20260422T060418
CREATED:20230610T020927Z
LAST-MODIFIED:20230614T015643Z
UID:10000152-1469718000-1469736000@itma.org.sg
SUMMARY:Invitation to ITMA 5-Year Masterplan Workshop
DESCRIPTION:The much-awaited ITMA 5-Year Masterplan Workshop is now open for registration. Join fellow ITMA members to deliberate on the future direction of ITMA. Offer your views on how we can stay relevant and on top of our game.
URL:https://itma.org.sg/event/invitation-to-itma-5-year-masterplan-workshop/
LOCATION:Level 33\, Raffles City Office Tower\,\, Singapore 179101\, Singapore
ATTACH;FMTTYPE=image/jpeg:https://itma.org.sg/itma/assets/2023/06/2016-07-28-ITMA-5-Year-Masterplan-Workshop3.jpg
END:VEVENT
BEGIN:VEVENT
DTSTART;TZID=Asia/Shanghai:20160720T140000
DTEND;TZID=Asia/Shanghai:20160720T170000
DTSTAMP:20260422T060418
CREATED:20230610T021121Z
LAST-MODIFIED:20230614T015643Z
UID:10000153-1469023200-1469034000@itma.org.sg
SUMMARY:Invitation To Personal Data Protection (PDP) Seminar 2016
DESCRIPTION:Taking place on 20 July 2016\, this annual seminar is an excellent platform for the sharing of best practices and interactive discussions on data protection matters. We have lined up a series of distinguished local and foreign regulators and industry speakers for two exciting panel discussions.
URL:https://itma.org.sg/event/invitation-to-personal-data-protection-pdp-seminar-2016/
LOCATION:Raffles City Convention Centre\, .\, Stamford Ballroom\, Singapore
ATTACH;FMTTYPE=image/jpeg:https://itma.org.sg/itma/assets/2023/06/2016-07-20-Invitation-to-Personal-Data-Protection-PDP-Seminar.jpg
END:VEVENT
END:VCALENDAR