BEGIN:VCALENDAR
VERSION:2.0
PRODID:-//ITMA: IT Management Association - ECPv6.1.2.2//NONSGML v1.0//EN
CALSCALE:GREGORIAN
METHOD:PUBLISH
X-ORIGINAL-URL:https://itma.org.sg
X-WR-CALDESC:Events for ITMA: IT Management Association
REFRESH-INTERVAL;VALUE=DURATION:PT1H
X-Robots-Tag:noindex
X-PUBLISHED-TTL:PT1H
BEGIN:VTIMEZONE
TZID:Asia/Shanghai
BEGIN:STANDARD
TZOFFSETFROM:+0800
TZOFFSETTO:+0800
TZNAME:CST
DTSTART:20250101T000000
END:STANDARD
END:VTIMEZONE
BEGIN:VEVENT
DTSTART;TZID=Asia/Shanghai:20251219T164500
DTEND;TZID=Asia/Shanghai:20251219T220000
DTSTAMP:20260422T173516
CREATED:20251124T080930Z
LAST-MODIFIED:20251125T092205Z
UID:10000376-1766162700-1766181600@itma.org.sg
SUMMARY:ITMA Family Movie Night - Avatar: Fire and Ash
DESCRIPTION:ITMA warmly invites you and your loved ones to a magical Family Movie Night! Join fellow members and their families for an unforgettable evening as we screen Avatar: Fire and Ash. Before the adventure unfolds on the big screen\, enjoy a hearty and delicious dinner—perfect for setting the mood for the epic journey to come. \nAbout the Movie\nWith Avatar: Fire and Ash\, James Cameron takes audiences back to Pandora in an immersive new adventure with Marine turned Na’vi leader Jake Sully (Sam Worthington)\, Na’vi warrior Neytiri (Zoe Saldaña)\, and the Sully family. (Rating To Be Advised) \nMovie Snacks on the House!Popcorn and nacho combos will be provided—available on a first-come\, first-served basis. So be sure to arrive early! \nBring your family\, bring your energy\, and let’s create a memorable evening together!
URL:https://itma.org.sg/event/itma-family-movie-night-avatar-fire-and-ash/
LOCATION:Golden Village @ Suntec City\, 3 Temasek Blvd\, #03-373\, 038983
ATTACH;FMTTYPE=image/png:https://itma.org.sg/itma/assets/2025/11/Movie-Night-Avatar_Social.png
END:VEVENT
END:VCALENDAR