BEGIN:VCALENDAR
VERSION:2.0
PRODID:-//ITMA: IT Management Association - ECPv6.1.2.2//NONSGML v1.0//EN
CALSCALE:GREGORIAN
METHOD:PUBLISH
X-ORIGINAL-URL:https://itma.org.sg
X-WR-CALDESC:Events for ITMA: IT Management Association
REFRESH-INTERVAL;VALUE=DURATION:PT1H
X-Robots-Tag:noindex
X-PUBLISHED-TTL:PT1H
BEGIN:VTIMEZONE
TZID:Asia/Shanghai
BEGIN:STANDARD
TZOFFSETFROM:+0800
TZOFFSETTO:+0800
TZNAME:CST
DTSTART:20250101T000000
END:STANDARD
END:VTIMEZONE
BEGIN:VEVENT
DTSTART;TZID=Asia/Shanghai:20250916T180000
DTEND;TZID=Asia/Shanghai:20250916T210000
DTSTAMP:20260424T212719
CREATED:20250826T065501Z
LAST-MODIFIED:20250826T065501Z
UID:10000373-1758045600-1758056400@itma.org.sg
SUMMARY:ITMA & Sonar Gin & Tech Evening
DESCRIPTION:The future of software development is here. It’s no longer just about speed. It is about building better\, higher-quality code. With the integration of advanced tools and AI\, the conversation between developers and their software is becoming more dynamic than ever. \nHear how Sonar\, the makers of SonarQube\, is shaping this future\, supercharging development teams to create incredible software without sacrificing quality. This isn’t about replacing developers; it’s about empowering them with a new kind of intelligence that enables them to build more robust code from the start. \nDiscover how you can equip your developers to deliver better\, faster code. \nDinner and drinks will be provided! You will also get to enjoy Tanglin Gin’s in-house specialties—Orchid Gin and Singapore Gin. Don’t miss this unique opportunity to pair great conversations with great gin!
URL:https://itma.org.sg/event/itma-sonar-gin-tech-evening/
LOCATION:The Tanglin Gin Jungle\, 26B Dempsey Rd\, 247693\, Singapore
ATTACH;FMTTYPE=image/png:https://itma.org.sg/itma/assets/2025/08/ITMA-Sonar-Gin-Tech_Social.png
END:VEVENT
END:VCALENDAR