BEGIN:VCALENDAR
VERSION:2.0
PRODID:-//ITMA: IT Management Association - ECPv6.1.2.2//NONSGML v1.0//EN
CALSCALE:GREGORIAN
METHOD:PUBLISH
X-ORIGINAL-URL:https://itma.org.sg
X-WR-CALDESC:Events for ITMA: IT Management Association
REFRESH-INTERVAL;VALUE=DURATION:PT1H
X-Robots-Tag:noindex
X-PUBLISHED-TTL:PT1H
BEGIN:VTIMEZONE
TZID:Asia/Shanghai
BEGIN:STANDARD
TZOFFSETFROM:+0800
TZOFFSETTO:+0800
TZNAME:CST
DTSTART:20250101T000000
END:STANDARD
END:VTIMEZONE
BEGIN:VEVENT
DTSTART;TZID=Asia/Shanghai:20250909T173000
DTEND;TZID=Asia/Shanghai:20250909T220000
DTSTAMP:20260422T121009
CREATED:20250819T082759Z
LAST-MODIFIED:20250819T082759Z
UID:10000371-1757439000-1757455200@itma.org.sg
SUMMARY:ITMA & Coevolve Cruise Event
DESCRIPTION:AI is transforming enterprise IT but not always for the better. While it promises smarter networks and stronger security\, it can also introduce new vulnerabilities\, blind spots\, and costly missteps if adopted without the right foundations. \nThis session\, presented in partnership with Coevolve and hosted aboard a private cruise\, is designed to cut through the AI noise. No hype\, no jargon – just a clear look at: \n\nWhy most enterprise networks aren’t AI-ready and what that means for security\nThe hidden risks and blind spots IT leaders often overlook\nA practical framework for making AI a secure\, scalable enabler – not just another experiment\n\nWhether you are evaluating AI adoption or already integrating it into your stack\, this session will help you ask the right questions\, manage risks effectively\, and build a blueprint for turning AI into a true business asset. \nDon’t miss this opportunity to explore AI in enterprise networks and security\, while enjoying a BBQ feast with refreshing drinks and networking with like-minded professionals as we sail into the evening!
URL:https://itma.org.sg/event/itma-coevolve-cruise-event/
LOCATION:Sentosa Cove Arrival Plaza\, Sentosa Cove Arrival Plaza\, 1 Cove Ave\, #02-12 (Infront of 7-Eleven)\, 098537\, Singapore
ATTACH;FMTTYPE=image/png:https://itma.org.sg/itma/assets/2025/08/Coevolve-Cruise-Social.png
END:VEVENT
END:VCALENDAR