BEGIN:VCALENDAR
VERSION:2.0
PRODID:-//ITMA: IT Management Association - ECPv6.1.2.2//NONSGML v1.0//EN
CALSCALE:GREGORIAN
METHOD:PUBLISH
X-ORIGINAL-URL:https://itma.org.sg
X-WR-CALDESC:Events for ITMA: IT Management Association
REFRESH-INTERVAL;VALUE=DURATION:PT1H
X-Robots-Tag:noindex
X-PUBLISHED-TTL:PT1H
BEGIN:VTIMEZONE
TZID:Asia/Shanghai
BEGIN:STANDARD
TZOFFSETFROM:+0800
TZOFFSETTO:+0800
TZNAME:CST
DTSTART:20250101T000000
END:STANDARD
END:VTIMEZONE
BEGIN:VEVENT
DTSTART;TZID=Asia/Shanghai:20250724T173000
DTEND;TZID=Asia/Shanghai:20250724T203000
DTSTAMP:20260422T115300
CREATED:20250609T071908Z
LAST-MODIFIED:20250609T071908Z
UID:10000363-1753378200-1753389000@itma.org.sg
SUMMARY:ITMA - Akamai Whiskey Appreciation
DESCRIPTION:AI is no longer just a technology issue—it’s a boardroom conversation. As it reshapes the cybersecurity landscape\, AI presents both an emerging risk and a powerful tool for resilience. For business leaders\, understanding this duality is essential to driving secure\, future-ready growth. \nJoin us for an exclusive get-together designed for technology leaders to explore how AI is redefining security today. This session offers a practical\, strategic lens to help CIOs develop effective cybersecurity frameworks for the AI era. \nWhat You’ll Gain:\n✔ A business-first perspective on AI’s role in both enabling and challenging enterprise security\n✔ Executive insights into the risks of generative AI and the new OWASP Top 10 for LLMs\n✔ Actionable strategies for aligning cybersecurity with business priorities in the AI era \nThis is not a technical deep-dive—but a strategic dialogue tailored for decision-makers like you. \nWind down the evening with a whisky appreciation session and accompanied by gourmet canapés. It’s the perfect opportunity to unwind\, exchange ideas\, and connect with fellow members in a relaxed setting.
URL:https://itma.org.sg/event/itma-akamai-whiskey-appreciation/
LOCATION:The Single Cask\, 73A Amoy St\, Singapore 069892\, Singapore
ATTACH;FMTTYPE=image/png:https://itma.org.sg/itma/assets/2025/06/Akamai-Whiskey-Appreciation-Social.png
END:VEVENT
END:VCALENDAR