BEGIN:VCALENDAR
VERSION:2.0
PRODID:-//ITMA: IT Management Association - ECPv6.1.2.2//NONSGML v1.0//EN
CALSCALE:GREGORIAN
METHOD:PUBLISH
X-WR-CALNAME:ITMA: IT Management Association
X-ORIGINAL-URL:https://itma.org.sg
X-WR-CALDESC:Events for ITMA: IT Management Association
REFRESH-INTERVAL;VALUE=DURATION:PT1H
X-Robots-Tag:noindex
X-PUBLISHED-TTL:PT1H
BEGIN:VTIMEZONE
TZID:Asia/Shanghai
BEGIN:STANDARD
TZOFFSETFROM:+0800
TZOFFSETTO:+0800
TZNAME:CST
DTSTART:20250101T000000
END:STANDARD
END:VTIMEZONE
BEGIN:VEVENT
DTSTART;TZID=Asia/Shanghai:20250718T183000
DTEND;TZID=Asia/Shanghai:20250718T210000
DTSTAMP:20260422T180616
CREATED:20250625T081403Z
LAST-MODIFIED:20250625T082552Z
UID:10000366-1752863400-1752872400@itma.org.sg
SUMMARY:ITMA x AsiaPac Durian Fiesta
DESCRIPTION:It’s that exciting time of year again – the much-anticipated Durian Fiesta is back! This year\, we are partnering with AsiaPac to present a Durian Fiesta like no other. Join us at the scenic Sky Garden Sentosa to indulge in the king of fruits\, featuring a variety of rich and flavourful durians. You will also hear from AsiaPac’s partners as they showcase their latest innovative solutions. Don’t miss this unique blend of tropical indulgence and tech inspiration as we celebrate the peak of Durian Season together!
URL:https://itma.org.sg/event/itma-x-asiapac-durian-fiesta/
LOCATION:Sky Garden Sentosa\, 43 Siloso Beach Walk\, 099010\, Singapore
ATTACH;FMTTYPE=image/png:https://itma.org.sg/itma/assets/2025/06/ITMA_AsiaPac_Event-Visual_Website_1200x1200-01.png
END:VEVENT
END:VCALENDAR