BEGIN:VCALENDAR
VERSION:2.0
PRODID:-//ITMA: IT Management Association - ECPv6.1.2.2//NONSGML v1.0//EN
CALSCALE:GREGORIAN
METHOD:PUBLISH
X-ORIGINAL-URL:https://itma.org.sg
X-WR-CALDESC:Events for ITMA: IT Management Association
REFRESH-INTERVAL;VALUE=DURATION:PT1H
X-Robots-Tag:noindex
X-PUBLISHED-TTL:PT1H
BEGIN:VTIMEZONE
TZID:Asia/Shanghai
BEGIN:STANDARD
TZOFFSETFROM:+0800
TZOFFSETTO:+0800
TZNAME:CST
DTSTART:20250101T000000
END:STANDARD
END:VTIMEZONE
BEGIN:VEVENT
DTSTART;TZID=Asia/Shanghai:20250630T140000
DTEND;TZID=Asia/Shanghai:20250630T180000
DTSTAMP:20260422T201829
CREATED:20250605T131933Z
LAST-MODIFIED:20250624T010607Z
UID:10000362-1751292000-1751306400@itma.org.sg
SUMMARY:Exclusive AWS Innovation Hub Tour
DESCRIPTION:ITMA & AWS cordially invites you to an exclusive visit to the AWS Innovation Hub\, where you will explore breakthrough technologies\, experience Amazon’s culture of innovation\, and discover how leading organisations are shaping their digital future with AWS. \nJoin fellow technology leaders to: \n\n\nExplore AWS’s latest innovative solutions \n\n\nGain strategic insights from successful digital transformations \n\n\nGet an exclusive preview of upcoming AWS capabilities \n\n\nConnect with peers and industry leaders
URL:https://itma.org.sg/event/exclusive-aws-innovation-hub-tour/
LOCATION:AWS Innovation Hub\, Level 6\, AWS Singapore Office\, IOI Central Boulevard East Tower\, 018916\, Singapore
ATTACH;FMTTYPE=image/jpeg:https://itma.org.sg/itma/assets/2025/06/innovation-hub-em-img-2-1.jpg
END:VEVENT
END:VCALENDAR