BEGIN:VCALENDAR
VERSION:2.0
PRODID:-//ITMA: IT Management Association - ECPv6.1.2.2//NONSGML v1.0//EN
CALSCALE:GREGORIAN
METHOD:PUBLISH
X-WR-CALNAME:ITMA: IT Management Association
X-ORIGINAL-URL:https://itma.org.sg
X-WR-CALDESC:Events for ITMA: IT Management Association
REFRESH-INTERVAL;VALUE=DURATION:PT1H
X-Robots-Tag:noindex
X-PUBLISHED-TTL:PT1H
BEGIN:VTIMEZONE
TZID:Asia/Shanghai
BEGIN:STANDARD
TZOFFSETFROM:+0800
TZOFFSETTO:+0800
TZNAME:CST
DTSTART:20250101T000000
END:STANDARD
END:VTIMEZONE
BEGIN:VEVENT
DTSTART;TZID=Asia/Shanghai:20250626T183000
DTEND;TZID=Asia/Shanghai:20250626T203000
DTSTAMP:20260423T092736
CREATED:20250623T053141Z
LAST-MODIFIED:20250623T053141Z
UID:10000365-1750962600-1750969800@itma.org.sg
SUMMARY:ITMA New Members Networking Dinner
DESCRIPTION:Welcome to the Information Technology Management Association (ITMA) community! \nAs a new member\, you are now part of a dynamic network of IT professionals and industry leaders\, who are passionate about shaping the future of technology and digital leadership. \nYou are invited to join us for an exclusive New Members networking dinner – a casual evening designed to help you connect with fellow new members and the ITMA Executive Council. We will be sharing with you more about the ITMA community and the exciting upcoming events planned for the year. \nCome join us and indulge in good food\, great times and networking opportunities. We look forward to seeing you there!
URL:https://itma.org.sg/event/itma-new-members-networking-dinner/
LOCATION:OPIO Kitchen & Bar\, 991B Alexandra Rd\, Singapore\, 119970
ATTACH;FMTTYPE=image/png:https://itma.org.sg/itma/assets/2025/06/New-Members-Night-Social.png
END:VEVENT
END:VCALENDAR