BEGIN:VCALENDAR
VERSION:2.0
PRODID:-//ITMA: IT Management Association - ECPv6.1.2.2//NONSGML v1.0//EN
CALSCALE:GREGORIAN
METHOD:PUBLISH
X-WR-CALNAME:ITMA: IT Management Association
X-ORIGINAL-URL:https://itma.org.sg
X-WR-CALDESC:Events for ITMA: IT Management Association
REFRESH-INTERVAL;VALUE=DURATION:PT1H
X-Robots-Tag:noindex
X-PUBLISHED-TTL:PT1H
BEGIN:VTIMEZONE
TZID:Asia/Shanghai
BEGIN:STANDARD
TZOFFSETFROM:+0800
TZOFFSETTO:+0800
TZNAME:CST
DTSTART:20250101T000000
END:STANDARD
END:VTIMEZONE
BEGIN:VEVENT
DTSTART;TZID=Asia/Shanghai:20250611T173000
DTEND;TZID=Asia/Shanghai:20250611T210000
DTSTAMP:20260422T145829
CREATED:20250510T131912Z
LAST-MODIFIED:20250510T131912Z
UID:10000361-1749663000-1749675600@itma.org.sg
SUMMARY:ITMA Family Movie Night - Karate Kid: Legends
DESCRIPTION:ITMA warmly invites you and your loved ones to a special Family Movie Night. Join fellow members and their families for an action-packed evening featuring the nostalgic and exciting Karate Kid: Legends in 2D. Before the curtain rises\, indulge in a sumptuous dinner to set the stage for the epic adventure to come. \nAbout the Movie\nKarate Kid: Legends unites the iconic martial arts masters of one of the most beloved film franchises of all time to tell a completely new story full of action and heart. When kung fu prodigy Li Fong (Ben Wang) relocates to New York City with his mother to attend a prestigious new school\, he finds solace in a new friendship with a classmate and her father. But his newfound peace is short-lived after he attracts unwanted attention from a formidable local karate champion. Driven by a desire to defend himself\, Li embarks on a journey to enter the ultimate karate competition. Guided by the wisdom of his kung fu teacher\, Mr. Han (Jackie Chan)\, and the legendary Karate Kid\, Daniel LaRusso (Ralph Macchio)\, Li merges their unique styles to prepare for an epic martial arts showdown. \nMovie Snacks Are On Us!\nWe are serving up popcorn combos and nachos combos—available on a first-come\, first-served basis\, so come early! \nBring your family. Bring your spirit. Let’s make it a night to remember!
URL:https://itma.org.sg/event/karatekid/
LOCATION:Golden Village @ Suntec City\, 3 Temasek Blvd\, #03-373\, 038983
ATTACH;FMTTYPE=image/png:https://itma.org.sg/itma/assets/2025/05/KarateKid-Social.png
END:VEVENT
END:VCALENDAR